BEGIN:VCALENDAR
VERSION:2.0
PRODID:-//Alcaldia de Cúcuta - ECPv6.15.18//NONSGML v1.0//EN
CALSCALE:GREGORIAN
METHOD:PUBLISH
X-WR-CALNAME:Alcaldia de Cúcuta
X-ORIGINAL-URL:https://cucuta.gov.co
X-WR-CALDESC:Eventos para Alcaldia de Cúcuta
REFRESH-INTERVAL;VALUE=DURATION:PT1H
X-Robots-Tag:noindex
X-PUBLISHED-TTL:PT1H
BEGIN:VTIMEZONE
TZID:America/Bogota
BEGIN:STANDARD
TZOFFSETFROM:-0500
TZOFFSETTO:-0500
TZNAME:-05
DTSTART:20230101T050000
END:STANDARD
END:VTIMEZONE
BEGIN:VEVENT
DTSTART;TZID=America/Bogota:20241119T080000
DTEND;TZID=America/Bogota:20241123T170000
DTSTAMP:20260421T195047
CREATED:20241224T030954Z
LAST-MODIFIED:20241227T151630Z
UID:90653-1732003200-1732381200@cucuta.gov.co
SUMMARY:Audiciones batallas de rap para el festival hip hop sobre ruedas
DESCRIPTION:
URL:https://cucuta.gov.co/event/audiciones-batallas-de-rap-para-el-festival-hip-hop-sobre-ruedas/
LOCATION:Teatro Municipal
END:VEVENT
END:VCALENDAR