BEGIN:VCALENDAR
VERSION:2.0
PRODID:-//Alcaldia de Cúcuta - ECPv6.15.18//NONSGML v1.0//EN
CALSCALE:GREGORIAN
METHOD:PUBLISH
X-WR-CALNAME:Alcaldia de Cúcuta
X-ORIGINAL-URL:https://cucuta.gov.co
X-WR-CALDESC:Eventos para Alcaldia de Cúcuta
REFRESH-INTERVAL;VALUE=DURATION:PT1H
X-Robots-Tag:noindex
X-PUBLISHED-TTL:PT1H
BEGIN:VTIMEZONE
TZID:America/Bogota
BEGIN:STANDARD
TZOFFSETFROM:-0500
TZOFFSETTO:-0500
TZNAME:-05
DTSTART:20230101T050000
END:STANDARD
END:VTIMEZONE
BEGIN:VEVENT
DTSTART;TZID=America/Bogota:20241126T090000
DTEND;TZID=America/Bogota:20241126T110000
DTSTAMP:20260421T195048
CREATED:20241224T034034Z
LAST-MODIFIED:20241227T151141Z
UID:90669-1732611600-1732618800@cucuta.gov.co
SUMMARY:Taller “Transformadoras de Nuestros Territorios”
DESCRIPTION:
URL:https://cucuta.gov.co/event/taller-transformadoras-de-nuestros-territorios/
LOCATION:Secretaría de Equidad de Género de Cúcuta. Oficina 106\, Biblioteca Julio Pérez Ferrero
END:VEVENT
END:VCALENDAR