BEGIN:VCALENDAR
VERSION:2.0
PRODID:-//Alcaldia de Cúcuta - ECPv6.15.18//NONSGML v1.0//EN
CALSCALE:GREGORIAN
METHOD:PUBLISH
X-WR-CALNAME:Alcaldia de Cúcuta
X-ORIGINAL-URL:https://cucuta.gov.co
X-WR-CALDESC:Eventos para Alcaldia de Cúcuta
REFRESH-INTERVAL;VALUE=DURATION:PT1H
X-Robots-Tag:noindex
X-PUBLISHED-TTL:PT1H
BEGIN:VTIMEZONE
TZID:America/Bogota
BEGIN:STANDARD
TZOFFSETFROM:-0500
TZOFFSETTO:-0500
TZNAME:-05
DTSTART:20230101T050000
END:STANDARD
END:VTIMEZONE
BEGIN:VEVENT
DTSTART;TZID=America/Bogota:20241210T130000
DTEND;TZID=America/Bogota:20241214T220000
DTSTAMP:20260421T175740
CREATED:20241212T222517Z
LAST-MODIFIED:20241212T222517Z
UID:89717-1733835600-1734213600@cucuta.gov.co
SUMMARY:Postulaciones para el programa “Mi Plante Joven”
DESCRIPTION:Postulaciones para el programa “Mi Plante Joven” \nDía: 10 al 14 de diciembre\nEncuentra el link en las redes sociales de la Alcaldía y de la Secretaría del Banco del Progreso
URL:https://cucuta.gov.co/event/postulaciones-para-el-programa-mi-plante-joven/
END:VEVENT
END:VCALENDAR