BEGIN:VCALENDAR
VERSION:2.0
PRODID:-//Alcaldia de Cúcuta - ECPv6.15.18//NONSGML v1.0//EN
CALSCALE:GREGORIAN
METHOD:PUBLISH
X-ORIGINAL-URL:https://cucuta.gov.co
X-WR-CALDESC:Eventos para Alcaldia de Cúcuta
REFRESH-INTERVAL;VALUE=DURATION:PT1H
X-Robots-Tag:noindex
X-PUBLISHED-TTL:PT1H
BEGIN:VTIMEZONE
TZID:America/Bogota
BEGIN:STANDARD
TZOFFSETFROM:-0500
TZOFFSETTO:-0500
TZNAME:-05
DTSTART:20240101T050000
END:STANDARD
END:VTIMEZONE
BEGIN:VEVENT
DTSTART;TZID=America/Bogota:20250214T080000
DTEND;TZID=America/Bogota:20250214T123000
DTSTAMP:20260421T144805
CREATED:20250305T152449Z
LAST-MODIFIED:20250305T152509Z
UID:93256-1739520000-1739536200@cucuta.gov.co
SUMMARY:‘INSTITUCIÓN EDUCATIVA EUSTORGIO COLMENARES\, SEGURA Y LIBRE DE DROGAS’: NUEVA ESTRATEGIA DE LA ALCALDÍA
DESCRIPTION:El alcalde Jorge Acevedo\, junto a la Policía Nacional\, realizaron el lanzamiento del plan piloto ‘Institución Educativa Eustorgio Colmenares\, segura y libre de drogas’\, una estrategia para concientizar a los menores sobre las consecuencias del consumo de sustancias psicoactivas. \nEste plan es una prueba piloto para combatir la venta de droga en los colegios de la ciudad. “Con todas las herramientas y todas las capacidades\, vamos a proteger a nuestros niños y jóvenes; a los jíbaros que están alrededor de las instituciones y a aquellas personas que quieren hacerles daño a los menores\, el mensaje es claro: vamos detrás de ustedes”\, afirmó el mandatario cucuteño.
URL:https://cucuta.gov.co/event/institucion-educativa-eustorgio-colmenares-segura-y-libre-de-drogas-nueva-estrategia-de-la-alcaldia/
END:VEVENT
END:VCALENDAR