BEGIN:VCALENDAR
VERSION:2.0
PRODID:-//Alcaldia de Cúcuta - ECPv6.15.18//NONSGML v1.0//EN
CALSCALE:GREGORIAN
METHOD:PUBLISH
X-ORIGINAL-URL:https://cucuta.gov.co
X-WR-CALDESC:Eventos para Alcaldia de Cúcuta
REFRESH-INTERVAL;VALUE=DURATION:PT1H
X-Robots-Tag:noindex
X-PUBLISHED-TTL:PT1H
BEGIN:VTIMEZONE
TZID:America/Bogota
BEGIN:STANDARD
TZOFFSETFROM:-0500
TZOFFSETTO:-0500
TZNAME:-05
DTSTART:20240101T050000
END:STANDARD
END:VTIMEZONE
BEGIN:VEVENT
DTSTART;TZID=America/Bogota:20250215T080000
DTEND;TZID=America/Bogota:20250215T123000
DTSTAMP:20260421T144812
CREATED:20250305T152623Z
LAST-MODIFIED:20250305T152642Z
UID:93258-1739606400-1739622600@cucuta.gov.co
SUMMARY:ALCALDÍA DE CÚCUTA REACTIVÓ CON ÉXITO EL PROGRAMA ‘COMUNIDADES CON BIENESTAR E INTEGRACIÓN’
DESCRIPTION:Con una participación activa de los residentes de la Comuna 7\, se retomaron los encuentros del programa ‘Comunidades con Bienestar e Integración’\, una iniciativa diseñada para acercar trámites y servicios gratuitos a la ciudadanía\, fortalecer el tejido social y promover la inclusión. \nEn esta oportunidad\, la jornada se llevó a cabo en el Colegio Juan Carlos Calderón\, ubicado en el barrio Ospina Pérez\, con la participación de diversas entidades gubernamentales. \n“Estamos muy contentos con la recepción que hemos tenido en la Comuna 7. Con estos espacios\, buscamos acercar la institucionalidad a los barrios de la ciudad. En esta primera jornada de 2025\, el balance es muy positivo”\, afirmó Beatriz Vélez\, directora del Departamento Administrativo de Bienestar Social (DABS).
URL:https://cucuta.gov.co/event/alcaldia-de-cucuta-reactivo-con-exito-el-programa-comunidades-con-bienestar-e-integracion/
END:VEVENT
END:VCALENDAR