BEGIN:VCALENDAR
VERSION:2.0
PRODID:-//Alcaldia de Cúcuta - ECPv6.15.18//NONSGML v1.0//EN
CALSCALE:GREGORIAN
METHOD:PUBLISH
X-WR-CALNAME:Alcaldia de Cúcuta
X-ORIGINAL-URL:https://cucuta.gov.co
X-WR-CALDESC:Eventos para Alcaldia de Cúcuta
REFRESH-INTERVAL;VALUE=DURATION:PT1H
X-Robots-Tag:noindex
X-PUBLISHED-TTL:PT1H
BEGIN:VTIMEZONE
TZID:America/Bogota
BEGIN:STANDARD
TZOFFSETFROM:-0500
TZOFFSETTO:-0500
TZNAME:-05
DTSTART:20240101T050000
END:STANDARD
END:VTIMEZONE
BEGIN:VEVENT
DTSTART;TZID=America/Bogota:20250228T193000
DTEND;TZID=America/Bogota:20250228T213000
DTSTAMP:20260421T131020
CREATED:20250305T143251Z
LAST-MODIFIED:20250305T143557Z
UID:93241-1740771000-1740778200@cucuta.gov.co
SUMMARY:IMRD INVITA AL CICLOPASEO FAMILIAR POR LA BATALLA DE CÚCUTA
DESCRIPTION:En homenaje a los 212 años de la Batalla de Cúcuta\, el Instituto Municipal para la Recreación y Deporte IMRD\, la Secretaría de Cultura y Turismo y la Secretaría de Tránsito y Transporte\, invitan a los cucuteños para que hagan parte del ciclopaseo familiar este viernes 28 de febrero. \nBajo el slogan “Cúcuta Ciudad Destino”\, esta actividad arranca desde las 7:30 pm con el siguiente recorrido: punto de salida calle 10 con diagonal Santander (Centro comercial Ventura plaza)\, pasando por el Parque Santander y el Parque La Victoria\, siguiendo por sitios turísticos y culturales como la Quinta Teresa y el Cristo Rey\, para terminar en la emblemática Loma de Bolívar.
URL:https://cucuta.gov.co/event/imrd-invita-al-ciclopaseo-familiar-por-la-batalla-de-cucuta/
END:VEVENT
END:VCALENDAR