BEGIN:VCALENDAR
VERSION:2.0
PRODID:-//Alcaldia de Cúcuta - ECPv6.15.18//NONSGML v1.0//EN
CALSCALE:GREGORIAN
METHOD:PUBLISH
X-WR-CALNAME:Alcaldia de Cúcuta
X-ORIGINAL-URL:https://cucuta.gov.co
X-WR-CALDESC:Eventos para Alcaldia de Cúcuta
REFRESH-INTERVAL;VALUE=DURATION:PT1H
X-Robots-Tag:noindex
X-PUBLISHED-TTL:PT1H
BEGIN:VTIMEZONE
TZID:America/Bogota
BEGIN:STANDARD
TZOFFSETFROM:-0500
TZOFFSETTO:-0500
TZNAME:-05
DTSTART:20240101T050000
END:STANDARD
END:VTIMEZONE
BEGIN:VEVENT
DTSTART;TZID=America/Bogota:20250301T060000
DTEND;TZID=America/Bogota:20250301T220000
DTSTAMP:20260421T131032
CREATED:20250305T152234Z
LAST-MODIFIED:20250305T152258Z
UID:93253-1740808800-1740866400@cucuta.gov.co
SUMMARY:JORNADAS DE ‘COMUNIDADES CON BIENESTAR’
DESCRIPTION:Las jornadas de ‘Comunidades con Bienestar e Integración’ en las Comunas 9 y 10 de la ciudad\, con la participación de más de 500 personas de los barrios Belén y Cuberos. \n“Estas jornadas han sido planeadas con la finalidad de acercar la oferta social de la Alcaldía a cada uno de los barrios. Llevar a los sectores cucuteños los programas institucionales para beneficiar a la población vulnerable es nuestro objetivo”\, afirmó Beatriz Vélez\, directora del Departamento Administrativo de Bienestar Social (DABS).
URL:https://cucuta.gov.co/event/jornadas-de-comunidades-con-bienestar/
LOCATION:Barrio Belén
END:VEVENT
END:VCALENDAR