BEGIN:VCALENDAR
VERSION:2.0
PRODID:-//Alcaldia de Cúcuta - ECPv6.15.18//NONSGML v1.0//EN
CALSCALE:GREGORIAN
METHOD:PUBLISH
X-ORIGINAL-URL:https://cucuta.gov.co
X-WR-CALDESC:Eventos para Alcaldia de Cúcuta
REFRESH-INTERVAL;VALUE=DURATION:PT1H
X-Robots-Tag:noindex
X-PUBLISHED-TTL:PT1H
BEGIN:VTIMEZONE
TZID:America/Bogota
BEGIN:STANDARD
TZOFFSETFROM:-0500
TZOFFSETTO:-0500
TZNAME:-05
DTSTART:20240101T050000
END:STANDARD
END:VTIMEZONE
BEGIN:VEVENT
DTSTART;TZID=America/Bogota:20250315T080000
DTEND;TZID=America/Bogota:20250316T010000
DTSTAMP:20260421T131145
CREATED:20250320T200506Z
LAST-MODIFIED:20250320T200506Z
UID:93934-1742025600-1742086800@cucuta.gov.co
SUMMARY:Comunidades con Bienestar e Integración
DESCRIPTION:‘Comunidades con Bienestar e Integración’ es liderado por el Departamento Administrativo de Bienestar Social (DABS)\, la Secretaría de Equidad de Género y la Gestora Social\, se llevará a cabo en el barrio Toledo Plata de la Comuna 6. La institución educativa del sector se convirtió en un espacio participativo y de servicios disponibles y gratuitos para la comunidad.
URL:https://cucuta.gov.co/event/comunidades-con-bienestar-e-integracion-4/
END:VEVENT
END:VCALENDAR