BEGIN:VCALENDAR
VERSION:2.0
PRODID:-//Alcaldia de Cúcuta - ECPv6.15.18//NONSGML v1.0//EN
CALSCALE:GREGORIAN
METHOD:PUBLISH
X-WR-CALNAME:Alcaldia de Cúcuta
X-ORIGINAL-URL:https://cucuta.gov.co
X-WR-CALDESC:Eventos para Alcaldia de Cúcuta
REFRESH-INTERVAL;VALUE=DURATION:PT1H
X-Robots-Tag:noindex
X-PUBLISHED-TTL:PT1H
BEGIN:VTIMEZONE
TZID:America/New_York
BEGIN:DAYLIGHT
TZOFFSETFROM:-0500
TZOFFSETTO:-0400
TZNAME:EDT
DTSTART:20240310T070000
END:DAYLIGHT
BEGIN:STANDARD
TZOFFSETFROM:-0400
TZOFFSETTO:-0500
TZNAME:EST
DTSTART:20241103T060000
END:STANDARD
BEGIN:DAYLIGHT
TZOFFSETFROM:-0500
TZOFFSETTO:-0400
TZNAME:EDT
DTSTART:20250309T070000
END:DAYLIGHT
BEGIN:STANDARD
TZOFFSETFROM:-0400
TZOFFSETTO:-0500
TZNAME:EST
DTSTART:20251102T060000
END:STANDARD
BEGIN:DAYLIGHT
TZOFFSETFROM:-0500
TZOFFSETTO:-0400
TZNAME:EDT
DTSTART:20260308T070000
END:DAYLIGHT
BEGIN:STANDARD
TZOFFSETFROM:-0400
TZOFFSETTO:-0500
TZNAME:EST
DTSTART:20261101T060000
END:STANDARD
END:VTIMEZONE
BEGIN:VEVENT
DTSTART;TZID=America/New_York:20250516T080000
DTEND;TZID=America/New_York:20250531T080000
DTSTAMP:20260421T100020
CREATED:20250526T194603Z
LAST-MODIFIED:20250526T194603Z
UID:96743-1747382400-1748678400@cucuta.gov.co
SUMMARY:Talleres para pruebas rápidas de Infecciones de Transmisión Sexual.
DESCRIPTION:Talleres para pruebas rápidas de Infecciones de Transmisión Sexual.\nLugar: Coworking Caobos
URL:https://cucuta.gov.co/event/talleres-para-pruebas-rapidas-de-infecciones-de-transmision-sexual/
END:VEVENT
BEGIN:VEVENT
DTSTART;TZID=America/New_York:20250529T080000
DTEND;TZID=America/New_York:20250529T093000
DTSTAMP:20260421T100020
CREATED:20250526T194738Z
LAST-MODIFIED:20250526T194738Z
UID:96745-1748505600-1748511000@cucuta.gov.co
SUMMARY:Lanzamiento Programa “Cúcuta con techo” dirigido a constructores.
DESCRIPTION:Lugar: Calle 15 #1e – 100 Caobos – Coworking
URL:https://cucuta.gov.co/event/lanzamiento-programa-cucuta-con-techo-dirigido-a-constructores/
END:VEVENT
BEGIN:VEVENT
DTSTART;TZID=America/New_York:20250529T080000
DTEND;TZID=America/New_York:20250529T120000
DTSTAMP:20260421T100020
CREATED:20250526T194842Z
LAST-MODIFIED:20250526T194857Z
UID:96747-1748505600-1748520000@cucuta.gov.co
SUMMARY:Jornada Sisbén + social
DESCRIPTION:Lugar: Colegio Padre Rafael García Herreros\, sede II\, B. Loma de Bolívar
URL:https://cucuta.gov.co/event/jornada-sisben-social-2/
END:VEVENT
BEGIN:VEVENT
DTSTART;TZID=America/New_York:20250529T080000
DTEND;TZID=America/New_York:20250529T120000
DTSTAMP:20260421T100020
CREATED:20250526T194939Z
LAST-MODIFIED:20250526T194939Z
UID:96749-1748505600-1748520000@cucuta.gov.co
SUMMARY:Jornada de Empleo con Enfoque de Género
DESCRIPTION:Lugar: Centro Regional de Atención a Víctimas – Calle 0 # 12 – 17 Piso 1\, Barrio Comuneros
URL:https://cucuta.gov.co/event/jornada-de-empleo-con-enfoque-de-genero/
END:VEVENT
BEGIN:VEVENT
DTSTART;TZID=America/New_York:20250529T150000
DTEND;TZID=America/New_York:20250529T170000
DTSTAMP:20260421T100020
CREATED:20250526T195022Z
LAST-MODIFIED:20250526T195055Z
UID:96751-1748530800-1748538000@cucuta.gov.co
SUMMARY:Primera Mesa Pública del PAE 2025
DESCRIPTION:Lugar: Auditorio FESC
URL:https://cucuta.gov.co/event/primera-mesa-publica-del-pae-2025/
END:VEVENT
END:VCALENDAR