BEGIN:VCALENDAR
VERSION:2.0
PRODID:-//Alcaldia de Cúcuta - ECPv6.15.18//NONSGML v1.0//EN
CALSCALE:GREGORIAN
METHOD:PUBLISH
X-ORIGINAL-URL:https://cucuta.gov.co
X-WR-CALDESC:Eventos para Alcaldia de Cúcuta
REFRESH-INTERVAL;VALUE=DURATION:PT1H
X-Robots-Tag:noindex
X-PUBLISHED-TTL:PT1H
BEGIN:VTIMEZONE
TZID:America/New_York
BEGIN:DAYLIGHT
TZOFFSETFROM:-0500
TZOFFSETTO:-0400
TZNAME:EDT
DTSTART:20240310T070000
END:DAYLIGHT
BEGIN:STANDARD
TZOFFSETFROM:-0400
TZOFFSETTO:-0500
TZNAME:EST
DTSTART:20241103T060000
END:STANDARD
BEGIN:DAYLIGHT
TZOFFSETFROM:-0500
TZOFFSETTO:-0400
TZNAME:EDT
DTSTART:20250309T070000
END:DAYLIGHT
BEGIN:STANDARD
TZOFFSETFROM:-0400
TZOFFSETTO:-0500
TZNAME:EST
DTSTART:20251102T060000
END:STANDARD
BEGIN:DAYLIGHT
TZOFFSETFROM:-0500
TZOFFSETTO:-0400
TZNAME:EDT
DTSTART:20260308T070000
END:DAYLIGHT
BEGIN:STANDARD
TZOFFSETFROM:-0400
TZOFFSETTO:-0500
TZNAME:EST
DTSTART:20261101T060000
END:STANDARD
END:VTIMEZONE
BEGIN:VEVENT
DTSTART;TZID=America/New_York:20250616T080000
DTEND;TZID=America/New_York:20250621T170000
DTSTAMP:20260421T093735
CREATED:20250616T151506Z
LAST-MODIFIED:20250616T151506Z
UID:97527-1750060800-1750525200@cucuta.gov.co
SUMMARY:Convocatoria Becas Nuevas Generaciones de educación superior 2025-2
DESCRIPTION:Lugar: De forma virtual\, a través del Sistema de Atención al Ciudadano (SAC)\, o presencial en la oficina del SAC\, ubicada en el primer piso del edificio empresarial del Hotel Tonchalá\, bloque B (Calle 10 No. 0E-16)
URL:https://cucuta.gov.co/event/convocatoria-becas-nuevas-generaciones-de-educacion-superior-2025-2/
END:VEVENT
BEGIN:VEVENT
DTSTART;TZID=America/New_York:20250616T120000
DTEND;TZID=America/New_York:20250620T143000
DTSTAMP:20260421T093735
CREATED:20250616T170224Z
LAST-MODIFIED:20250616T170224Z
UID:97533-1750075200-1750429800@cucuta.gov.co
SUMMARY:Jornada de acompañamiento a los proyectos II Fase personas jurídicas
DESCRIPTION:Lugar: Secretaría de Cultura y Patrimonio\, calle 10 # 0E-100
URL:https://cucuta.gov.co/event/jornada-de-acompanamiento-a-los-proyectos-ii-fase-personas-juridicas/
END:VEVENT
BEGIN:VEVENT
DTSTART;TZID=America/New_York:20250618T080000
DTEND;TZID=America/New_York:20250618T120000
DTSTAMP:20260421T093735
CREATED:20250616T151322Z
LAST-MODIFIED:20250616T151322Z
UID:97523-1750233600-1750248000@cucuta.gov.co
SUMMARY:Sisben + social
DESCRIPTION:Lugar: Av 2 # 24 -06\, barrio Virgilio Barco
URL:https://cucuta.gov.co/event/sisben-social-5/
END:VEVENT
END:VCALENDAR