BEGIN:VCALENDAR
VERSION:2.0
PRODID:-//Alcaldia de Cúcuta - ECPv6.15.18//NONSGML v1.0//EN
CALSCALE:GREGORIAN
METHOD:PUBLISH
X-ORIGINAL-URL:https://cucuta.gov.co
X-WR-CALDESC:Eventos para Alcaldia de Cúcuta
REFRESH-INTERVAL;VALUE=DURATION:PT1H
X-Robots-Tag:noindex
X-PUBLISHED-TTL:PT1H
BEGIN:VTIMEZONE
TZID:America/New_York
BEGIN:DAYLIGHT
TZOFFSETFROM:-0500
TZOFFSETTO:-0400
TZNAME:EDT
DTSTART:20240310T070000
END:DAYLIGHT
BEGIN:STANDARD
TZOFFSETFROM:-0400
TZOFFSETTO:-0500
TZNAME:EST
DTSTART:20241103T060000
END:STANDARD
BEGIN:DAYLIGHT
TZOFFSETFROM:-0500
TZOFFSETTO:-0400
TZNAME:EDT
DTSTART:20250309T070000
END:DAYLIGHT
BEGIN:STANDARD
TZOFFSETFROM:-0400
TZOFFSETTO:-0500
TZNAME:EST
DTSTART:20251102T060000
END:STANDARD
BEGIN:DAYLIGHT
TZOFFSETFROM:-0500
TZOFFSETTO:-0400
TZNAME:EDT
DTSTART:20260308T070000
END:DAYLIGHT
BEGIN:STANDARD
TZOFFSETFROM:-0400
TZOFFSETTO:-0500
TZNAME:EST
DTSTART:20261101T060000
END:STANDARD
END:VTIMEZONE
BEGIN:VEVENT
DTSTART;TZID=America/New_York:20250716T080000
DTEND;TZID=America/New_York:20250716T120000
DTSTAMP:20260421T064914
CREATED:20250804T021121Z
LAST-MODIFIED:20250804T021121Z
UID:99607-1752652800-1752667200@cucuta.gov.co
SUMMARY:Sisbén + Social
DESCRIPTION:Lugar: Mz. 29\, Lote 29\, B. Las Delicias
URL:https://cucuta.gov.co/event/sisben-social-9/
END:VEVENT
BEGIN:VEVENT
DTSTART;TZID=America/New_York:20250716T090000
DTEND;TZID=America/New_York:20250716T120000
DTSTAMP:20260421T064914
CREATED:20250804T021026Z
LAST-MODIFIED:20250804T021026Z
UID:99605-1752656400-1752667200@cucuta.gov.co
SUMMARY:Capacitación en Contratación pública dirigida a comerciantes de Cenabastos.
DESCRIPTION:Lugar: Sala de juntas Benigno Sandoval Molina de la oficina de administración T-210 | Cenabastos Cúcuta
URL:https://cucuta.gov.co/event/capacitacion-en-contratacion-publica-dirigida-a-comerciantes-de-cenabastos/
END:VEVENT
END:VCALENDAR