BEGIN:VCALENDAR
VERSION:2.0
PRODID:-//Alcaldia de Cúcuta - ECPv6.15.18//NONSGML v1.0//EN
CALSCALE:GREGORIAN
METHOD:PUBLISH
X-WR-CALNAME:Alcaldia de Cúcuta
X-ORIGINAL-URL:https://cucuta.gov.co
X-WR-CALDESC:Eventos para Alcaldia de Cúcuta
REFRESH-INTERVAL;VALUE=DURATION:PT1H
X-Robots-Tag:noindex
X-PUBLISHED-TTL:PT1H
BEGIN:VTIMEZONE
TZID:America/New_York
BEGIN:DAYLIGHT
TZOFFSETFROM:-0500
TZOFFSETTO:-0400
TZNAME:EDT
DTSTART:20240310T070000
END:DAYLIGHT
BEGIN:STANDARD
TZOFFSETFROM:-0400
TZOFFSETTO:-0500
TZNAME:EST
DTSTART:20241103T060000
END:STANDARD
BEGIN:DAYLIGHT
TZOFFSETFROM:-0500
TZOFFSETTO:-0400
TZNAME:EDT
DTSTART:20250309T070000
END:DAYLIGHT
BEGIN:STANDARD
TZOFFSETFROM:-0400
TZOFFSETTO:-0500
TZNAME:EST
DTSTART:20251102T060000
END:STANDARD
BEGIN:DAYLIGHT
TZOFFSETFROM:-0500
TZOFFSETTO:-0400
TZNAME:EDT
DTSTART:20260308T070000
END:DAYLIGHT
BEGIN:STANDARD
TZOFFSETFROM:-0400
TZOFFSETTO:-0500
TZNAME:EST
DTSTART:20261101T060000
END:STANDARD
END:VTIMEZONE
BEGIN:VEVENT
DTSTART;TZID=America/New_York:20251030T150000
DTEND;TZID=America/New_York:20251030T150000
DTSTAMP:20260420T233145
CREATED:20251104T134520Z
LAST-MODIFIED:20251104T134520Z
UID:102190-1761836400-1761836400@cucuta.gov.co
SUMMARY:Segunda Mesa Pública del Programa de Alimentación Escolar (PAE)
DESCRIPTION:LUGAR: Auditorio UA NORTE – Av 3 #13-81\nFECHA: Jueves 30 de octubre\nHORA: 3:00 p.m.
URL:https://cucuta.gov.co/event/segunda-mesa-publica-del-programa-de-alimentacion-escolar-pae/
END:VEVENT
END:VCALENDAR