BEGIN:VCALENDAR
VERSION:2.0
PRODID:-//Alcaldia de Cúcuta - ECPv6.15.18//NONSGML v1.0//EN
CALSCALE:GREGORIAN
METHOD:PUBLISH
X-WR-CALNAME:Alcaldia de Cúcuta
X-ORIGINAL-URL:https://cucuta.gov.co
X-WR-CALDESC:Eventos para Alcaldia de Cúcuta
REFRESH-INTERVAL;VALUE=DURATION:PT1H
X-Robots-Tag:noindex
X-PUBLISHED-TTL:PT1H
BEGIN:VTIMEZONE
TZID:America/New_York
BEGIN:DAYLIGHT
TZOFFSETFROM:-0500
TZOFFSETTO:-0400
TZNAME:EDT
DTSTART:20250309T070000
END:DAYLIGHT
BEGIN:STANDARD
TZOFFSETFROM:-0400
TZOFFSETTO:-0500
TZNAME:EST
DTSTART:20251102T060000
END:STANDARD
BEGIN:DAYLIGHT
TZOFFSETFROM:-0500
TZOFFSETTO:-0400
TZNAME:EDT
DTSTART:20260308T070000
END:DAYLIGHT
BEGIN:STANDARD
TZOFFSETFROM:-0400
TZOFFSETTO:-0500
TZNAME:EST
DTSTART:20261101T060000
END:STANDARD
BEGIN:DAYLIGHT
TZOFFSETFROM:-0500
TZOFFSETTO:-0400
TZNAME:EDT
DTSTART:20270314T070000
END:DAYLIGHT
BEGIN:STANDARD
TZOFFSETFROM:-0400
TZOFFSETTO:-0500
TZNAME:EST
DTSTART:20271107T060000
END:STANDARD
END:VTIMEZONE
BEGIN:VEVENT
DTSTART;TZID=America/New_York:20260414T080000
DTEND;TZID=America/New_York:20260414T120000
DTSTAMP:20260420T131949
CREATED:20260414T133057Z
LAST-MODIFIED:20260414T133440Z
UID:105724-1776153600-1776168000@cucuta.gov.co
SUMMARY:SISBÉN MÁS SOCIAL
DESCRIPTION:📍 Barrio: Motilones\n📌 Lugar: Calle 2 # 1-23\, Barrio Motilones\n📅 Fecha: Martes 14 de abril de 2026\n⏰ Hora: 8:00 a.m. a 12:00 m.
URL:https://cucuta.gov.co/event/sisben-mas-social-2/
END:VEVENT
BEGIN:VEVENT
DTSTART;TZID=America/New_York:20260414T080000
DTEND;TZID=America/New_York:20260414T140000
DTSTAMP:20260420T131949
CREATED:20260414T134013Z
LAST-MODIFIED:20260414T134013Z
UID:105734-1776153600-1776175200@cucuta.gov.co
SUMMARY:Censo de recicladores de oficio
DESCRIPTION:LUGAR: Teatro Municipal\nFECHA: 14-30 de abril\nHORA: 8:00 a.m. a 5:00 p.m
URL:https://cucuta.gov.co/event/censo-de-recicladores-de-oficio/
END:VEVENT
BEGIN:VEVENT
DTSTART;TZID=America/New_York:20260414T090000
DTEND;TZID=America/New_York:20260414T120000
DTSTAMP:20260420T131949
CREATED:20260414T133725Z
LAST-MODIFIED:20260414T133725Z
UID:105730-1776157200-1776168000@cucuta.gov.co
SUMMARY:Secretaría de Cultura y Patrimonio
DESCRIPTION:Fecha:Martes 14 de abril\nHora: 9.00 am.\nLugar: Centro cuidarte (población discapacidad)\nActividad: junto con estudiantes de Fonoaudiología de la unipamplona\, realizaremos las actividades de promoción de lectura y estimulación
URL:https://cucuta.gov.co/event/secretaria-de-cultura-y-patrimonio/
END:VEVENT
END:VCALENDAR