BEGIN:VCALENDAR
VERSION:2.0
PRODID:-//Alcaldia de Cúcuta - ECPv6.15.18//NONSGML v1.0//EN
CALSCALE:GREGORIAN
METHOD:PUBLISH
X-ORIGINAL-URL:https://cucuta.gov.co
X-WR-CALDESC:Eventos para Alcaldia de Cúcuta
REFRESH-INTERVAL;VALUE=DURATION:PT1H
X-Robots-Tag:noindex
X-PUBLISHED-TTL:PT1H
BEGIN:VTIMEZONE
TZID:America/New_York
BEGIN:DAYLIGHT
TZOFFSETFROM:-0500
TZOFFSETTO:-0400
TZNAME:EDT
DTSTART:20200308T070000
END:DAYLIGHT
BEGIN:STANDARD
TZOFFSETFROM:-0400
TZOFFSETTO:-0500
TZNAME:EST
DTSTART:20201101T060000
END:STANDARD
BEGIN:DAYLIGHT
TZOFFSETFROM:-0500
TZOFFSETTO:-0400
TZNAME:EDT
DTSTART:20210314T070000
END:DAYLIGHT
BEGIN:STANDARD
TZOFFSETFROM:-0400
TZOFFSETTO:-0500
TZNAME:EST
DTSTART:20211107T060000
END:STANDARD
BEGIN:DAYLIGHT
TZOFFSETFROM:-0500
TZOFFSETTO:-0400
TZNAME:EDT
DTSTART:20220313T070000
END:DAYLIGHT
BEGIN:STANDARD
TZOFFSETFROM:-0400
TZOFFSETTO:-0500
TZNAME:EST
DTSTART:20221106T060000
END:STANDARD
END:VTIMEZONE
BEGIN:VEVENT
DTSTART;TZID=America/New_York:20211223T230000
DTEND;TZID=America/New_York:20211224T030000
DTSTAMP:20260424T052838
CREATED:20211223T155634Z
LAST-MODIFIED:20231028T050918Z
UID:34379-1640300400-1640314800@cucuta.gov.co
SUMMARY:CONCIERTO JERAU - CÚCUTA NOCTURNA
DESCRIPTION:Los invitamos a celebrar la magia de la navidad con la presentación musical del artista @jeraucolombia. \n¡Cúcuta Nocturna llega al final de su versión 2021! \nEsta estrategia de reactivación económica tendrá hoy su evento final en el barrio Caobos.
URL:https://cucuta.gov.co/event/concierto-jerau-cucuta-nocturna/
CATEGORIES:Celebraciones,Eventos Culturales
ATTACH;FMTTYPE=image/png:https://cucuta.gov.co/wp-content/uploads/2021/12/fotos-eventos-16.png
END:VEVENT
END:VCALENDAR