BEGIN:VCALENDAR
VERSION:2.0
PRODID:-//Alcaldia de Cúcuta - ECPv6.15.18//NONSGML v1.0//EN
CALSCALE:GREGORIAN
METHOD:PUBLISH
X-WR-CALNAME:Alcaldia de Cúcuta
X-ORIGINAL-URL:https://cucuta.gov.co
X-WR-CALDESC:Eventos para Alcaldia de Cúcuta
REFRESH-INTERVAL;VALUE=DURATION:PT1H
X-Robots-Tag:noindex
X-PUBLISHED-TTL:PT1H
BEGIN:VTIMEZONE
TZID:America/New_York
BEGIN:DAYLIGHT
TZOFFSETFROM:-0500
TZOFFSETTO:-0400
TZNAME:EDT
DTSTART:20250309T070000
END:DAYLIGHT
BEGIN:STANDARD
TZOFFSETFROM:-0400
TZOFFSETTO:-0500
TZNAME:EST
DTSTART:20251102T060000
END:STANDARD
BEGIN:DAYLIGHT
TZOFFSETFROM:-0500
TZOFFSETTO:-0400
TZNAME:EDT
DTSTART:20260308T070000
END:DAYLIGHT
BEGIN:STANDARD
TZOFFSETFROM:-0400
TZOFFSETTO:-0500
TZNAME:EST
DTSTART:20261101T060000
END:STANDARD
BEGIN:DAYLIGHT
TZOFFSETFROM:-0500
TZOFFSETTO:-0400
TZNAME:EDT
DTSTART:20270314T070000
END:DAYLIGHT
BEGIN:STANDARD
TZOFFSETFROM:-0400
TZOFFSETTO:-0500
TZNAME:EST
DTSTART:20271107T060000
END:STANDARD
END:VTIMEZONE
BEGIN:VEVENT
DTSTART;TZID=America/New_York:20260209T143000
DTEND;TZID=America/New_York:20260209T170000
DTSTAMP:20260420T221841
CREATED:20260210T005022Z
LAST-MODIFIED:20260210T005130Z
UID:104291-1770647400-1770656400@cucuta.gov.co
SUMMARY:Formación al talento humano de la Secretaría de Educación
DESCRIPTION:LUGAR: IPS Niños de papel\nHORA: 2:30 P.M.
URL:https://cucuta.gov.co/event/formacion-al-talento-humano-de-la-secretaria-de-educacion/
END:VEVENT
BEGIN:VEVENT
DTSTART;TZID=America/New_York:20260212T080000
DTEND;TZID=America/New_York:20260213T000000
DTSTAMP:20260420T221841
CREATED:20260209T164745Z
LAST-MODIFIED:20260209T164745Z
UID:104262-1770883200-1770940800@cucuta.gov.co
SUMMARY:Primera sesión del Comité de Educación Municipal Ambiental
DESCRIPTION:Lugar: Corponor
URL:https://cucuta.gov.co/event/primera-sesion-del-comite-de-educacion-municipal-ambiental/
END:VEVENT
BEGIN:VEVENT
DTSTART;TZID=America/New_York:20260212T083000
DTEND;TZID=America/New_York:20260213T220000
DTSTAMP:20260420T221841
CREATED:20260210T005237Z
LAST-MODIFIED:20260210T005237Z
UID:104293-1770885000-1771020000@cucuta.gov.co
SUMMARY:Semanario sobre el fortalecimiento de capacidades para  identificar y reportar la trata de personas
DESCRIPTION:LUGAR: Auditorio Cámara de Comercio\nFECHA: 12 y 13 de febrero\nHORA: 8:00 A.M.
URL:https://cucuta.gov.co/event/semanario-sobre-el-fortalecimiento-de-capacidades-para-identificar-y-reportar-la-trata-de-personas/
END:VEVENT
BEGIN:VEVENT
DTSTART;TZID=America/New_York:20260213T070000
DTEND;TZID=America/New_York:20260213T170000
DTSTAMP:20260420T221841
CREATED:20260210T005554Z
LAST-MODIFIED:20260211T192356Z
UID:104297-1770966000-1771002000@cucuta.gov.co
SUMMARY:Feria de Economía Popular por la vida en Cenabastos
DESCRIPTION:Secretaria Desarrollo Económico y Competitividad\nArticulación: APE\nFecha: Viernes 13 de febrero\nHora: 7:00 a.m a 5:00 p.m\nLugar: Cenabastos
URL:https://cucuta.gov.co/event/feria-de-economia-popular-cenabastos-y-nueva-eps/
END:VEVENT
BEGIN:VEVENT
DTSTART;TZID=America/New_York:20260213T083000
DTEND;TZID=America/New_York:20260213T120000
DTSTAMP:20260420T221841
CREATED:20260210T005428Z
LAST-MODIFIED:20260210T005445Z
UID:104295-1770971400-1770984000@cucuta.gov.co
SUMMARY:Sisben + social
DESCRIPTION:Lugar: Avenida 10 con calle 7A\, Coliseo Cubierto – Urbanización San Martín. \nFecha: Viernes 13 de febrero de 2026\nHorario: 8:00 a. m. a 12:00 m.
URL:https://cucuta.gov.co/event/sisben-social-18/
END:VEVENT
BEGIN:VEVENT
DTSTART;TZID=America/New_York:20260213T150000
DTEND;TZID=America/New_York:20260213T190000
DTSTAMP:20260420T221841
CREATED:20260210T005911Z
LAST-MODIFIED:20260210T005954Z
UID:104299-1770994800-1771009200@cucuta.gov.co
SUMMARY:Consejo Municipal de Gestión del Riesgo de Desastres
DESCRIPTION:Miércoles 11 de febrero\nHora: 3:00 p.m.\nLugar: Sala de Crisis – Edificio Cegird Fronterizo.
URL:https://cucuta.gov.co/event/consejo-municipal-de-gestion-del-riesgo-de-desastres/
END:VEVENT
BEGIN:VEVENT
DTSTART;TZID=America/New_York:20260216T080000
DTEND;TZID=America/New_York:20260216T120000
DTSTAMP:20260420T221841
CREATED:20260217T215146Z
LAST-MODIFIED:20260217T215205Z
UID:104477-1771228800-1771243200@cucuta.gov.co
SUMMARY:SISBÉN + SOCIAL
DESCRIPTION:Trigal del Norte\nLugar : Calle 5 con Avenida 3N\, esquina CIC Trigal del Norte\nFecha: Lunes 16 de febrero de 2026\nHora: 8:00 a. m. a 12:00 p. m.
URL:https://cucuta.gov.co/event/sisben-social-19/
END:VEVENT
BEGIN:VEVENT
DTSTART;TZID=America/New_York:20260217T080000
DTEND;TZID=America/New_York:20260217T120000
DTSTAMP:20260420T221841
CREATED:20260217T215317Z
LAST-MODIFIED:20260217T215317Z
UID:104479-1771315200-1771329600@cucuta.gov.co
SUMMARY:SISBÉN + SOCIAL
DESCRIPTION:Comuneros\nLugar: Calle 7 # 4-90\, Barrio Comuneros\, Comuna 7\nFecha : Martes 17 de febrero de 2026\nHora: 8:00 a. m. a 12:00 p. m.
URL:https://cucuta.gov.co/event/sisben-social-20/
END:VEVENT
BEGIN:VEVENT
DTSTART;TZID=America/New_York:20260219T080000
DTEND;TZID=America/New_York:20260219T120000
DTSTAMP:20260420T221841
CREATED:20260217T215428Z
LAST-MODIFIED:20260217T215457Z
UID:104481-1771488000-1771502400@cucuta.gov.co
SUMMARY:SISBÉN + SOCIAL
DESCRIPTION:Alto Pamplonita\nLugar: Avenida 9 Calle 0\, al lado de la Escuela San Juan Bosco\, Barrio Alto Pamplonita\nFecha: Jueves 19 de febrero de 2026\nHora: 8:00 a. m. a 12:00 p. m.
URL:https://cucuta.gov.co/event/sisben-social-21/
END:VEVENT
BEGIN:VEVENT
DTSTART;TZID=America/New_York:20260223T080000
DTEND;TZID=America/New_York:20260223T120000
DTSTAMP:20260420T221841
CREATED:20260313T142921Z
LAST-MODIFIED:20260313T142921Z
UID:104881-1771833600-1771848000@cucuta.gov.co
SUMMARY:Sisbén Más Social
DESCRIPTION:Barrio La Libertad\nLugar: Calle 19 Nº 12-43 (una cuadra arriba de la Unidad Básica de La Libertad).\nFecha: Lunes 23 de febrero de 2026\nhora: 8:00 a.m. a 12:00 m.
URL:https://cucuta.gov.co/event/sisben-mas-social/
END:VEVENT
BEGIN:VEVENT
DTSTART;TZID=America/New_York:20260227T080000
DTEND;TZID=America/New_York:20260227T120000
DTSTAMP:20260420T221841
CREATED:20260313T143040Z
LAST-MODIFIED:20260313T143040Z
UID:104883-1772179200-1772193600@cucuta.gov.co
SUMMARY:Comunidades con Bienestar e Integración
DESCRIPTION:Viernes 27 de febrero\nParque principal del barrio San Luis.\nHora:8:00 a.m.
URL:https://cucuta.gov.co/event/comunidades-con-bienestar-e-integracion-15/
END:VEVENT
BEGIN:VEVENT
DTSTART;TZID=America/New_York:20260228T080000
DTEND;TZID=America/New_York:20260228T120000
DTSTAMP:20260420T221841
CREATED:20260313T143117Z
LAST-MODIFIED:20260313T143117Z
UID:104885-1772265600-1772280000@cucuta.gov.co
SUMMARY:Comunidades con Bienestar e Integración
DESCRIPTION:Sábado 28 de febrero\nColegio Nuestra Señora de Belén\, barrio Belén.\nHora: 8:00 a.m.
URL:https://cucuta.gov.co/event/comunidades-con-bienestar-e-integracion-16/
END:VEVENT
BEGIN:VEVENT
DTSTART;TZID=America/New_York:20260302T080000
DTEND;TZID=America/New_York:20260302T120000
DTSTAMP:20260420T221841
CREATED:20260313T143354Z
LAST-MODIFIED:20260313T143354Z
UID:104891-1772438400-1772452800@cucuta.gov.co
SUMMARY:Sisbén+ social
DESCRIPTION:📍 Barrio: Viejo Escobal\n📌 Lugar: Coliseo Cubierto del barrio Viejo Escobal\, calle 4 con avenida 5\, frente a la estación de policía y al salón comunal\n📅 Fecha: Lunes 2 de marzo de 2026\n⏰ Hora: 8:00 a.m. a 12:00 m.
URL:https://cucuta.gov.co/event/sisben-social-22/
END:VEVENT
BEGIN:VEVENT
DTSTART;TZID=America/New_York:20260302T160000
DTEND;TZID=America/New_York:20260302T180000
DTSTAMP:20260420T221841
CREATED:20260313T143312Z
LAST-MODIFIED:20260313T143312Z
UID:104889-1772467200-1772474400@cucuta.gov.co
SUMMARY:Consejo Municipal para la Gestión del Riesgo de Desastres (tema contaminación atmosférica)
DESCRIPTION:LUGAR: CEGIRD FRONTERIZO.\nFECHA: 02 DE MARZO DE 2026.\nHORA: 4:00 PM
URL:https://cucuta.gov.co/event/consejo-municipal-para-la-gestion-del-riesgo-de-desastres-tema-contaminacion-atmosferica/
END:VEVENT
BEGIN:VEVENT
DTSTART;TZID=America/New_York:20260303T090000
DTEND;TZID=America/New_York:20260303T120000
DTSTAMP:20260420T221841
CREATED:20260313T143803Z
LAST-MODIFIED:20260313T143803Z
UID:104895-1772528400-1772539200@cucuta.gov.co
SUMMARY:Discapacidad Articulación Bienestar social
DESCRIPTION:Fecha: Martes 03 de marzo\nHora: 09:00 am\nLugar: Centro cuidarte la libertad
URL:https://cucuta.gov.co/event/discapacidad-articulacion-bienestar-social/
END:VEVENT
BEGIN:VEVENT
DTSTART;TZID=America/New_York:20260305T080000
DTEND;TZID=America/New_York:20260305T120000
DTSTAMP:20260420T221841
CREATED:20260313T143211Z
LAST-MODIFIED:20260313T143211Z
UID:104887-1772697600-1772712000@cucuta.gov.co
SUMMARY:Jornada De Servicios Secretaría de Salud
DESCRIPTION:LUGAR: Cuidarte Scalabrini\nFECHA: 5 de marzo\nHORA: 8:00 a.m. a 11:30 a.m.
URL:https://cucuta.gov.co/event/jornada-de-servicios-secretaria-de-salud/
END:VEVENT
BEGIN:VEVENT
DTSTART;TZID=America/New_York:20260309T080000
DTEND;TZID=America/New_York:20260309T120000
DTSTAMP:20260420T221841
CREATED:20260313T143445Z
LAST-MODIFIED:20260313T143445Z
UID:104893-1773043200-1773057600@cucuta.gov.co
SUMMARY:Conversatorio "Aulas\, Pantallas y Poder: Violencia simbólica y digital basada en género."
DESCRIPTION:LUGAR: Universidad UDES – Auditorio Rafael serrano Sarmiento.\nFECHA: lunes 9 de marzo de 2026.\nHORA: 8:00 a.m.
URL:https://cucuta.gov.co/event/conversatorio-aulas-pantallas-y-poder-violencia-simbolica-y-digital-basada-en-genero/
END:VEVENT
BEGIN:VEVENT
DTSTART;TZID=America/New_York:20260311T150000
DTEND;TZID=America/New_York:20260311T170000
DTSTAMP:20260420T221841
CREATED:20260313T144046Z
LAST-MODIFIED:20260313T144046Z
UID:104901-1773241200-1773248400@cucuta.gov.co
SUMMARY:TALLER DE CARTOGRAFÍA SOCIAL" Comunas 3 y 4
DESCRIPTION:LUGAR: Salón Comunal de Vallester\, av 18 N° 14-04 Vallester.\nFECHA: 11 de marzo de 2026\nHORA: 2:00 pm
URL:https://cucuta.gov.co/event/taller-de-cartografia-social-comunas-3-y-4/
END:VEVENT
BEGIN:VEVENT
DTSTART;TZID=America/New_York:20260313T080000
DTEND;TZID=America/New_York:20260313T120000
DTSTAMP:20260420T221841
CREATED:20260313T143901Z
LAST-MODIFIED:20260313T143901Z
UID:104897-1773388800-1773403200@cucuta.gov.co
SUMMARY:Comunidades con Bienestar e Integración
DESCRIPTION:LUGAR: CuidArte La Libertad\nFECHA: viernes 13 de marzo\nHORA: 8:00 a.m.
URL:https://cucuta.gov.co/event/comunidades-con-bienestar-e-integracion-17/
END:VEVENT
BEGIN:VEVENT
DTSTART;TZID=America/New_York:20260314T080000
DTEND;TZID=America/New_York:20260314T120000
DTSTAMP:20260420T221841
CREATED:20260313T143948Z
LAST-MODIFIED:20260313T143948Z
UID:104899-1773475200-1773489600@cucuta.gov.co
SUMMARY:Comunidades con Bienestar e Integración
DESCRIPTION:LUGAR: CuidArte Banco de Arenas.\nFECHA: sábado 14 de marzo\nHORA: 8:00 a.m.
URL:https://cucuta.gov.co/event/comunidades-con-bienestar-e-integracion-18/
END:VEVENT
BEGIN:VEVENT
DTSTART;TZID=America/New_York:20260414T080000
DTEND;TZID=America/New_York:20260414T120000
DTSTAMP:20260420T221841
CREATED:20260414T133057Z
LAST-MODIFIED:20260414T133440Z
UID:105724-1776153600-1776168000@cucuta.gov.co
SUMMARY:SISBÉN MÁS SOCIAL
DESCRIPTION:📍 Barrio: Motilones\n📌 Lugar: Calle 2 # 1-23\, Barrio Motilones\n📅 Fecha: Martes 14 de abril de 2026\n⏰ Hora: 8:00 a.m. a 12:00 m.
URL:https://cucuta.gov.co/event/sisben-mas-social-2/
END:VEVENT
BEGIN:VEVENT
DTSTART;TZID=America/New_York:20260414T080000
DTEND;TZID=America/New_York:20260414T140000
DTSTAMP:20260420T221841
CREATED:20260414T134013Z
LAST-MODIFIED:20260414T134013Z
UID:105734-1776153600-1776175200@cucuta.gov.co
SUMMARY:Censo de recicladores de oficio
DESCRIPTION:LUGAR: Teatro Municipal\nFECHA: 14-30 de abril\nHORA: 8:00 a.m. a 5:00 p.m
URL:https://cucuta.gov.co/event/censo-de-recicladores-de-oficio/
END:VEVENT
BEGIN:VEVENT
DTSTART;TZID=America/New_York:20260414T090000
DTEND;TZID=America/New_York:20260414T120000
DTSTAMP:20260420T221841
CREATED:20260414T133725Z
LAST-MODIFIED:20260414T133725Z
UID:105730-1776157200-1776168000@cucuta.gov.co
SUMMARY:Secretaría de Cultura y Patrimonio
DESCRIPTION:Fecha:Martes 14 de abril\nHora: 9.00 am.\nLugar: Centro cuidarte (población discapacidad)\nActividad: junto con estudiantes de Fonoaudiología de la unipamplona\, realizaremos las actividades de promoción de lectura y estimulación
URL:https://cucuta.gov.co/event/secretaria-de-cultura-y-patrimonio/
END:VEVENT
BEGIN:VEVENT
DTSTART;TZID=America/New_York:20260415T150000
DTEND;TZID=America/New_York:20260415T180000
DTSTAMP:20260420T221841
CREATED:20260414T133837Z
LAST-MODIFIED:20260414T133837Z
UID:105732-1776265200-1776276000@cucuta.gov.co
SUMMARY:Secretaría de Cultura y Patrimonio
DESCRIPTION:Fecha: Miércoles 15 de abril\nHora: 3.00 p.m\nLugar: Centro cuidarte (tercera edad) – salón biblioteca\nActividad: máscara de los gestos. Objetivo: estimular la comunicación y las emociones mediante el arte.
URL:https://cucuta.gov.co/event/secretaria-de-cultura-y-patrimonio-2/
END:VEVENT
BEGIN:VEVENT
DTSTART;TZID=America/New_York:20260417T080000
DTEND;TZID=America/New_York:20260417T120000
DTSTAMP:20260420T221841
CREATED:20260414T133518Z
LAST-MODIFIED:20260414T133518Z
UID:105726-1776412800-1776427200@cucuta.gov.co
SUMMARY:SISBÉN MÁS SOCIAL
DESCRIPTION:📍 Barrio: José Bernal\n📌 Lugar: Manzana M Lote 34\, Barrio José Bernal\n📅 Fecha: Viernes 17 de abril de 2026\n⏰ Hora: 3:00 p.m. a 5:00 p.m.
URL:https://cucuta.gov.co/event/sisben-mas-social-3/
END:VEVENT
BEGIN:VEVENT
DTSTART;TZID=America/New_York:20260417T150000
DTEND;TZID=America/New_York:20260417T170000
DTSTAMP:20260420T221841
CREATED:20260414T133609Z
LAST-MODIFIED:20260414T133629Z
UID:105728-1776438000-1776445200@cucuta.gov.co
SUMMARY:PRIMERA MESA PÚBLICA DEL PAE 2026
DESCRIPTION:📍 Auditorio UA NORTE\n📌 Lugar: Av 3 # 13-81\n📅 Fecha: Viernes 17 de abril de 2026\n⏰ Hora: 3:00 p.m.\n📲 Transmisión Facebook Live
URL:https://cucuta.gov.co/event/primera-mesa-publica-del-pae-2026/
END:VEVENT
BEGIN:VEVENT
DTSTART;TZID=America/New_York:20260418T080000
DTEND;TZID=America/New_York:20260418T120000
DTSTAMP:20260420T221841
CREATED:20260414T132906Z
LAST-MODIFIED:20260414T133423Z
UID:105722-1776499200-1776513600@cucuta.gov.co
SUMMARY:Jornada de Comunidades con Bienestar e Integración
DESCRIPTION:Lugar: Salón Comunal\, barrio Viejo Escobal.\nFecha: Sábado 18 de abril\nHora: 8:00 a.m.
URL:https://cucuta.gov.co/event/jornada-de-comunidades-con-bienestar-e-integracion/
END:VEVENT
END:VCALENDAR