BEGIN:VCALENDAR
VERSION:2.0
PRODID:-//Alcaldia de Cúcuta - ECPv6.15.18//NONSGML v1.0//EN
CALSCALE:GREGORIAN
METHOD:PUBLISH
X-ORIGINAL-URL:https://cucuta.gov.co
X-WR-CALDESC:Eventos para Alcaldia de Cúcuta
REFRESH-INTERVAL;VALUE=DURATION:PT1H
X-Robots-Tag:noindex
X-PUBLISHED-TTL:PT1H
BEGIN:VTIMEZONE
TZID:America/New_York
BEGIN:DAYLIGHT
TZOFFSETFROM:-0500
TZOFFSETTO:-0400
TZNAME:EDT
DTSTART:20240310T070000
END:DAYLIGHT
BEGIN:STANDARD
TZOFFSETFROM:-0400
TZOFFSETTO:-0500
TZNAME:EST
DTSTART:20241103T060000
END:STANDARD
BEGIN:DAYLIGHT
TZOFFSETFROM:-0500
TZOFFSETTO:-0400
TZNAME:EDT
DTSTART:20250309T070000
END:DAYLIGHT
BEGIN:STANDARD
TZOFFSETFROM:-0400
TZOFFSETTO:-0500
TZNAME:EST
DTSTART:20251102T060000
END:STANDARD
BEGIN:DAYLIGHT
TZOFFSETFROM:-0500
TZOFFSETTO:-0400
TZNAME:EDT
DTSTART:20260308T070000
END:DAYLIGHT
BEGIN:STANDARD
TZOFFSETFROM:-0400
TZOFFSETTO:-0500
TZNAME:EST
DTSTART:20261101T060000
END:STANDARD
END:VTIMEZONE
BEGIN:VEVENT
DTSTART;TZID=America/New_York:20250616T080000
DTEND;TZID=America/New_York:20250621T170000
DTSTAMP:20260421T224210
CREATED:20250616T151506Z
LAST-MODIFIED:20250616T151506Z
UID:97527-1750060800-1750525200@cucuta.gov.co
SUMMARY:Convocatoria Becas Nuevas Generaciones de educación superior 2025-2
DESCRIPTION:Lugar: De forma virtual\, a través del Sistema de Atención al Ciudadano (SAC)\, o presencial en la oficina del SAC\, ubicada en el primer piso del edificio empresarial del Hotel Tonchalá\, bloque B (Calle 10 No. 0E-16)
URL:https://cucuta.gov.co/event/convocatoria-becas-nuevas-generaciones-de-educacion-superior-2025-2/
END:VEVENT
BEGIN:VEVENT
DTSTART;TZID=America/New_York:20250616T120000
DTEND;TZID=America/New_York:20250620T143000
DTSTAMP:20260421T224210
CREATED:20250616T170224Z
LAST-MODIFIED:20250616T170224Z
UID:97533-1750075200-1750429800@cucuta.gov.co
SUMMARY:Jornada de acompañamiento a los proyectos II Fase personas jurídicas
DESCRIPTION:Lugar: Secretaría de Cultura y Patrimonio\, calle 10 # 0E-100
URL:https://cucuta.gov.co/event/jornada-de-acompanamiento-a-los-proyectos-ii-fase-personas-juridicas/
END:VEVENT
BEGIN:VEVENT
DTSTART;TZID=America/New_York:20250617T070000
DTEND;TZID=America/New_York:20250617T100000
DTSTAMP:20260421T224210
CREATED:20250616T170011Z
LAST-MODIFIED:20250616T170029Z
UID:97529-1750143600-1750154400@cucuta.gov.co
SUMMARY:Celebración Cumpleaños de Cúcuta
DESCRIPTION:Lugar: Parque Juana Rangel de Cuellar
URL:https://cucuta.gov.co/event/celebracion-cumpleanos-de-cucuta/
END:VEVENT
BEGIN:VEVENT
DTSTART;TZID=America/New_York:20250617T080000
DTEND;TZID=America/New_York:20250617T120000
DTSTAMP:20260421T224210
CREATED:20250616T151212Z
LAST-MODIFIED:20250616T151229Z
UID:97521-1750147200-1750161600@cucuta.gov.co
SUMMARY:Sisben + social
DESCRIPTION:Lugar: Av 5 calle 20\, sede educativa Cristo Rey\, barrio La Cabrer
URL:https://cucuta.gov.co/event/sisben-social-4/
END:VEVENT
BEGIN:VEVENT
DTSTART;TZID=America/New_York:20250617T160000
DTEND;TZID=America/New_York:20250617T180000
DTSTAMP:20260421T224210
CREATED:20250616T170109Z
LAST-MODIFIED:20250616T170135Z
UID:97531-1750176000-1750183200@cucuta.gov.co
SUMMARY:Celebración Día de las Bandas
DESCRIPTION:Lugar: Recorrido desde el Monumento Cristo Rey hasta el parque Santander
URL:https://cucuta.gov.co/event/celebracion-dia-de-las-bandas/
END:VEVENT
BEGIN:VEVENT
DTSTART;TZID=America/New_York:20250618T080000
DTEND;TZID=America/New_York:20250618T120000
DTSTAMP:20260421T224210
CREATED:20250616T151322Z
LAST-MODIFIED:20250616T151322Z
UID:97523-1750233600-1750248000@cucuta.gov.co
SUMMARY:Sisben + social
DESCRIPTION:Lugar: Av 2 # 24 -06\, barrio Virgilio Barco
URL:https://cucuta.gov.co/event/sisben-social-5/
END:VEVENT
BEGIN:VEVENT
DTSTART;TZID=America/New_York:20250619T080000
DTEND;TZID=America/New_York:20250619T120000
DTSTAMP:20260421T224210
CREATED:20250616T151405Z
LAST-MODIFIED:20250616T151405Z
UID:97525-1750320000-1750334400@cucuta.gov.co
SUMMARY:Sisben + social
DESCRIPTION:Lugar: Corregimiento de San Faustino
URL:https://cucuta.gov.co/event/sisben-social-6/
END:VEVENT
BEGIN:VEVENT
DTSTART;TZID=America/New_York:20250619T080000
DTEND;TZID=America/New_York:20250619T180000
DTSTAMP:20260421T224210
CREATED:20250616T170304Z
LAST-MODIFIED:20250616T170326Z
UID:97535-1750320000-1750356000@cucuta.gov.co
SUMMARY:Taller Place Branding - turismo
DESCRIPTION:Lugar: Quinta Teresa
URL:https://cucuta.gov.co/event/taller-place-branding-turismo/
END:VEVENT
BEGIN:VEVENT
DTSTART;TZID=America/New_York:20250620T080000
DTEND;TZID=America/New_York:20250620T120000
DTSTAMP:20260421T224210
CREATED:20250616T170417Z
LAST-MODIFIED:20250616T170417Z
UID:97537-1750406400-1750420800@cucuta.gov.co
SUMMARY:Comunidades con Bienestar e Integración.
DESCRIPTION:Lugar: Coliseo de techo del barrio 28 de Febrero.
URL:https://cucuta.gov.co/event/comunidades-con-bienestar-e-integracion-7/
END:VEVENT
BEGIN:VEVENT
DTSTART;TZID=America/New_York:20250621T080000
DTEND;TZID=America/New_York:20250621T120000
DTSTAMP:20260421T224210
CREATED:20250616T170525Z
LAST-MODIFIED:20250616T170525Z
UID:97539-1750492800-1750507200@cucuta.gov.co
SUMMARY:Comunidades con Bienestar e Integración.
DESCRIPTION:Lugar: Instituto Técnico Buena Esperanza del corregimiento Buena Esperanza.
URL:https://cucuta.gov.co/event/comunidades-con-bienestar-e-integracion-8/
END:VEVENT
BEGIN:VEVENT
DTSTART;TZID=America/New_York:20250625T193000
DTEND;TZID=America/New_York:20250625T203000
DTSTAMP:20260421T224210
CREATED:20250627T201418Z
LAST-MODIFIED:20250627T201504Z
UID:98018-1750879800-1750883400@cucuta.gov.co
SUMMARY:RUNARTE
DESCRIPTION:Teatro Las Cascadas en el malecón.
URL:https://cucuta.gov.co/event/runarte/
END:VEVENT
BEGIN:VEVENT
DTSTART;TZID=America/New_York:20250626T080000
DTEND;TZID=America/New_York:20250626T120000
DTSTAMP:20260421T224210
CREATED:20250627T201713Z
LAST-MODIFIED:20250627T201736Z
UID:98023-1750924800-1750939200@cucuta.gov.co
SUMMARY:Sisbén + social
DESCRIPTION:Lugar: Calle 15#2-24 b. San Luis
URL:https://cucuta.gov.co/event/sisben-social-7/
END:VEVENT
BEGIN:VEVENT
DTSTART;TZID=America/New_York:20250627T080000
DTEND;TZID=America/New_York:20250627T120000
DTSTAMP:20260421T224210
CREATED:20250627T201809Z
LAST-MODIFIED:20250627T201824Z
UID:98025-1751011200-1751025600@cucuta.gov.co
SUMMARY:Jornada de Empleabilidad con enfoque en jóvenes.
DESCRIPTION:Lugar: Casa de la Juventud – Manzana G2 Lote 17. Atalaya\, I Etapa.
URL:https://cucuta.gov.co/event/jornada-de-empleabilidad-con-enfoque-en-jovenes/
END:VEVENT
BEGIN:VEVENT
DTSTART;TZID=America/New_York:20250627T080000
DTEND;TZID=America/New_York:20250627T120000
DTSTAMP:20260421T224210
CREATED:20250627T201943Z
LAST-MODIFIED:20250627T201943Z
UID:98027-1751011200-1751025600@cucuta.gov.co
SUMMARY:Ruta de la Productividad
DESCRIPTION:Lugar: Asentamiento humano La Prosperidad\, sector Sabaneta.
URL:https://cucuta.gov.co/event/ruta-de-la-productividad/
END:VEVENT
BEGIN:VEVENT
DTSTART;TZID=America/New_York:20250627T080000
DTEND;TZID=America/New_York:20250627T120000
DTSTAMP:20260421T224210
CREATED:20250627T202421Z
LAST-MODIFIED:20250627T202421Z
UID:98032-1751011200-1751025600@cucuta.gov.co
SUMMARY:Jornada de Empleabilidad con enfoque en Jóvenes. - Secretaría de Desarrollo Económico y Competitividad.
DESCRIPTION:Lugar: Casa de la juventud de Atalaya -Manzana G2 Lote 17. Atalaya\, Primera Etapa.
URL:https://cucuta.gov.co/event/jornada-de-empleabilidad-con-enfoque-en-jovenes-secretaria-de-desarrollo-economico-y-competitividad/
END:VEVENT
BEGIN:VEVENT
DTSTART;TZID=America/New_York:20250627T080000
DTEND;TZID=America/New_York:20250627T120000
DTSTAMP:20260421T224210
CREATED:20250627T202508Z
LAST-MODIFIED:20250627T202508Z
UID:98034-1751011200-1751025600@cucuta.gov.co
SUMMARY:Ruta de la Productividad - Secretaría de Desarrollo Rural y Agropecuario
DESCRIPTION:Lugar: Asentamiento Humano La Prosperidad\, sector Sabaneta.
URL:https://cucuta.gov.co/event/ruta-de-la-productividad-secretaria-de-desarrollo-rural-y-agropecuario/
END:VEVENT
BEGIN:VEVENT
DTSTART;TZID=America/New_York:20250628T080000
DTEND;TZID=America/New_York:20250628T120000
DTSTAMP:20260421T224210
CREATED:20250627T202342Z
LAST-MODIFIED:20250627T202342Z
UID:98030-1751097600-1751112000@cucuta.gov.co
SUMMARY:Comunidades con Bienestar e Integración
DESCRIPTION:Lugar: Colegio Camilo Daza\, sede principal. Calle 43 # 8 – 80\, b. Camilo Daza.
URL:https://cucuta.gov.co/event/comunidades-con-bienestar-e-integracion-9/
END:VEVENT
BEGIN:VEVENT
DTSTART;TZID=America/New_York:20250715T080000
DTEND;TZID=America/New_York:20250715T130000
DTSTAMP:20260421T224210
CREATED:20250804T020833Z
LAST-MODIFIED:20250804T020910Z
UID:99603-1752566400-1752584400@cucuta.gov.co
SUMMARY:Sisbén + Social
DESCRIPTION:Lugar: Avenida 8 #10-30\, Sede Comunal del Barrio Niña Ceci
URL:https://cucuta.gov.co/event/sisben-social-8/
END:VEVENT
BEGIN:VEVENT
DTSTART;TZID=America/New_York:20250716T080000
DTEND;TZID=America/New_York:20250716T120000
DTSTAMP:20260421T224210
CREATED:20250804T021121Z
LAST-MODIFIED:20250804T021121Z
UID:99607-1752652800-1752667200@cucuta.gov.co
SUMMARY:Sisbén + Social
DESCRIPTION:Lugar: Mz. 29\, Lote 29\, B. Las Delicias
URL:https://cucuta.gov.co/event/sisben-social-9/
END:VEVENT
BEGIN:VEVENT
DTSTART;TZID=America/New_York:20250716T090000
DTEND;TZID=America/New_York:20250716T120000
DTSTAMP:20260421T224210
CREATED:20250804T021026Z
LAST-MODIFIED:20250804T021026Z
UID:99605-1752656400-1752667200@cucuta.gov.co
SUMMARY:Capacitación en Contratación pública dirigida a comerciantes de Cenabastos.
DESCRIPTION:Lugar: Sala de juntas Benigno Sandoval Molina de la oficina de administración T-210 | Cenabastos Cúcuta
URL:https://cucuta.gov.co/event/capacitacion-en-contratacion-publica-dirigida-a-comerciantes-de-cenabastos/
END:VEVENT
BEGIN:VEVENT
DTSTART;TZID=America/New_York:20250717T080000
DTEND;TZID=America/New_York:20250717T120000
DTSTAMP:20260421T224210
CREATED:20250804T021203Z
LAST-MODIFIED:20250804T021203Z
UID:99609-1752739200-1752753600@cucuta.gov.co
SUMMARY:Sisbén + Social
DESCRIPTION:Lugar: Av .19 #6-33\, B. Nueva Esperanza
URL:https://cucuta.gov.co/event/sisben-social-10/
END:VEVENT
BEGIN:VEVENT
DTSTART;TZID=America/New_York:20250718T150000
DTEND;TZID=America/New_York:20250720T220000
DTSTAMP:20260421T224210
CREATED:20250804T021253Z
LAST-MODIFIED:20250804T021345Z
UID:99611-1752850800-1753048800@cucuta.gov.co
SUMMARY:Feria  Gastronómica y Empresarial
DESCRIPTION:Lugar: Centro Comercial Unicentro
URL:https://cucuta.gov.co/event/feria-gastronomica-y-empresarial/
END:VEVENT
BEGIN:VEVENT
DTSTART;TZID=America/New_York:20250720T100000
DTEND;TZID=America/New_York:20250720T130000
DTSTAMP:20260421T224210
CREATED:20250804T021443Z
LAST-MODIFIED:20250804T021443Z
UID:99615-1753005600-1753016400@cucuta.gov.co
SUMMARY:Desfile de Independencia
DESCRIPTION:Lugar: Puente Arnulfo Briceño
URL:https://cucuta.gov.co/event/desfile-de-independencia/
END:VEVENT
BEGIN:VEVENT
DTSTART;TZID=America/New_York:20250728T160000
DTEND;TZID=America/New_York:20250728T220000
DTSTAMP:20260421T224210
CREATED:20250804T021622Z
LAST-MODIFIED:20250804T021622Z
UID:99617-1753718400-1753740000@cucuta.gov.co
SUMMARY:Actividad: Grabación con la Cruz Roja para el programa “Prevención en manos de todos”
DESCRIPTION:Lugar: Instituto de educación de Salud – Cruz Roja\, Norte de Santander
URL:https://cucuta.gov.co/event/actividad-grabacion-con-la-cruz-roja-para-el-programa-prevencion-en-manos-de-todos/
END:VEVENT
BEGIN:VEVENT
DTSTART;TZID=America/New_York:20250729T080000
DTEND;TZID=America/New_York:20250729T220000
DTSTAMP:20260421T224210
CREATED:20250804T021704Z
LAST-MODIFIED:20250804T021704Z
UID:99619-1753776000-1753826400@cucuta.gov.co
SUMMARY:Jornada de empalme y seguimiento a obras de la Secretaría de Gestión del Riesgo de Desastres\, junto al secretario Fabián Prato
DESCRIPTION:Lugar: Puente La Gazapa y corregimiento de San Pedro
URL:https://cucuta.gov.co/event/jornada-de-empalme-y-seguimiento-a-obras-de-la-secretaria-de-gestion-del-riesgo-de-desastres-junto-al-secretario-fabian-prato/
END:VEVENT
BEGIN:VEVENT
DTSTART;TZID=America/New_York:20250825T160000
DTEND;TZID=America/New_York:20250825T180000
DTSTAMP:20260421T224210
CREATED:20250825T191730Z
LAST-MODIFIED:20250825T191756Z
UID:100255-1756137600-1756144800@cucuta.gov.co
SUMMARY:Lanzamiento de la XXI Fiesta del Libro “Catatumbo: palabras que transforman”
DESCRIPTION:Biblioteca Pública Julio Pérez Ferrero
URL:https://cucuta.gov.co/event/lanzamiento-de-la-xxi-fiesta-del-libro-catatumbo-palabras-que-transforman/
END:VEVENT
BEGIN:VEVENT
DTSTART;TZID=America/New_York:20250826T080000
DTEND;TZID=America/New_York:20250826T120000
DTSTAMP:20260421T224210
CREATED:20250825T191931Z
LAST-MODIFIED:20250825T191951Z
UID:100257-1756195200-1756209600@cucuta.gov.co
SUMMARY:Jornada Sisbén + Social –barrio La Laguna
DESCRIPTION:Avenida 0 entre calles 16 y 17\, al lado de la Cancha de Tierra
URL:https://cucuta.gov.co/event/jornada-sisben-social-barrio-la-laguna/
END:VEVENT
BEGIN:VEVENT
DTSTART;TZID=America/New_York:20250826T090000
DTEND;TZID=America/New_York:20250826T120000
DTSTAMP:20260421T224210
CREATED:20250825T192036Z
LAST-MODIFIED:20250825T192036Z
UID:100259-1756198800-1756209600@cucuta.gov.co
SUMMARY:Celebración Día Mundial de la Lucha contra el Dengue
DESCRIPTION:Colegio Padre Arturo Zárate – La Fortaleza- Anillo Vial.
URL:https://cucuta.gov.co/event/celebracion-dia-mundial-de-la-lucha-contra-el-dengue/
END:VEVENT
BEGIN:VEVENT
DTSTART;TZID=America/New_York:20250827T183000
DTEND;TZID=America/New_York:20250830T220000
DTSTAMP:20260421T224210
CREATED:20250904T013006Z
LAST-MODIFIED:20250904T013006Z
UID:100780-1756319400-1756591200@cucuta.gov.co
SUMMARY:Runarte
DESCRIPTION:Teatro Las Cascadas – 9no Festival de la Perla del Norte\, del 27 al 30 de agosto de 2025
URL:https://cucuta.gov.co/event/runarte-2/
END:VEVENT
BEGIN:VEVENT
DTSTART;TZID=America/New_York:20250829T080000
DTEND;TZID=America/New_York:20250829T130000
DTSTAMP:20260421T224210
CREATED:20250904T013156Z
LAST-MODIFIED:20250904T013156Z
UID:100782-1756454400-1756472400@cucuta.gov.co
SUMMARY:Lanzamiento programa “Mi plante”
DESCRIPTION:Lugar: Sede principal de la FESC\, avenida 5 #15-27\, barrio La Cabrera
URL:https://cucuta.gov.co/event/lanzamiento-programa-mi-plante/
END:VEVENT
END:VCALENDAR