BEGIN:VCALENDAR
VERSION:2.0
PRODID:-//Alcaldia de Cúcuta - ECPv6.15.18//NONSGML v1.0//EN
CALSCALE:GREGORIAN
METHOD:PUBLISH
X-ORIGINAL-URL:https://cucuta.gov.co
X-WR-CALDESC:Eventos para Alcaldia de Cúcuta
REFRESH-INTERVAL;VALUE=DURATION:PT1H
X-Robots-Tag:noindex
X-PUBLISHED-TTL:PT1H
BEGIN:VTIMEZONE
TZID:America/New_York
BEGIN:DAYLIGHT
TZOFFSETFROM:-0500
TZOFFSETTO:-0400
TZNAME:EDT
DTSTART:20240310T070000
END:DAYLIGHT
BEGIN:STANDARD
TZOFFSETFROM:-0400
TZOFFSETTO:-0500
TZNAME:EST
DTSTART:20241103T060000
END:STANDARD
BEGIN:DAYLIGHT
TZOFFSETFROM:-0500
TZOFFSETTO:-0400
TZNAME:EDT
DTSTART:20250309T070000
END:DAYLIGHT
BEGIN:STANDARD
TZOFFSETFROM:-0400
TZOFFSETTO:-0500
TZNAME:EST
DTSTART:20251102T060000
END:STANDARD
BEGIN:DAYLIGHT
TZOFFSETFROM:-0500
TZOFFSETTO:-0400
TZNAME:EDT
DTSTART:20260308T070000
END:DAYLIGHT
BEGIN:STANDARD
TZOFFSETFROM:-0400
TZOFFSETTO:-0500
TZNAME:EST
DTSTART:20261101T060000
END:STANDARD
BEGIN:DAYLIGHT
TZOFFSETFROM:-0500
TZOFFSETTO:-0400
TZNAME:EDT
DTSTART:20270314T070000
END:DAYLIGHT
BEGIN:STANDARD
TZOFFSETFROM:-0400
TZOFFSETTO:-0500
TZNAME:EST
DTSTART:20271107T060000
END:STANDARD
END:VTIMEZONE
BEGIN:VEVENT
DTSTART;TZID=America/New_York:20250825T160000
DTEND;TZID=America/New_York:20250825T180000
DTSTAMP:20260421T100747
CREATED:20250825T191730Z
LAST-MODIFIED:20250825T191756Z
UID:100255-1756137600-1756144800@cucuta.gov.co
SUMMARY:Lanzamiento de la XXI Fiesta del Libro “Catatumbo: palabras que transforman”
DESCRIPTION:Biblioteca Pública Julio Pérez Ferrero
URL:https://cucuta.gov.co/event/lanzamiento-de-la-xxi-fiesta-del-libro-catatumbo-palabras-que-transforman/
END:VEVENT
BEGIN:VEVENT
DTSTART;TZID=America/New_York:20250826T080000
DTEND;TZID=America/New_York:20250826T120000
DTSTAMP:20260421T100747
CREATED:20250825T191931Z
LAST-MODIFIED:20250825T191951Z
UID:100257-1756195200-1756209600@cucuta.gov.co
SUMMARY:Jornada Sisbén + Social –barrio La Laguna
DESCRIPTION:Avenida 0 entre calles 16 y 17\, al lado de la Cancha de Tierra
URL:https://cucuta.gov.co/event/jornada-sisben-social-barrio-la-laguna/
END:VEVENT
BEGIN:VEVENT
DTSTART;TZID=America/New_York:20250826T090000
DTEND;TZID=America/New_York:20250826T120000
DTSTAMP:20260421T100747
CREATED:20250825T192036Z
LAST-MODIFIED:20250825T192036Z
UID:100259-1756198800-1756209600@cucuta.gov.co
SUMMARY:Celebración Día Mundial de la Lucha contra el Dengue
DESCRIPTION:Colegio Padre Arturo Zárate – La Fortaleza- Anillo Vial.
URL:https://cucuta.gov.co/event/celebracion-dia-mundial-de-la-lucha-contra-el-dengue/
END:VEVENT
BEGIN:VEVENT
DTSTART;TZID=America/New_York:20250827T183000
DTEND;TZID=America/New_York:20250830T220000
DTSTAMP:20260421T100747
CREATED:20250904T013006Z
LAST-MODIFIED:20250904T013006Z
UID:100780-1756319400-1756591200@cucuta.gov.co
SUMMARY:Runarte
DESCRIPTION:Teatro Las Cascadas – 9no Festival de la Perla del Norte\, del 27 al 30 de agosto de 2025
URL:https://cucuta.gov.co/event/runarte-2/
END:VEVENT
BEGIN:VEVENT
DTSTART;TZID=America/New_York:20250829T080000
DTEND;TZID=America/New_York:20250829T130000
DTSTAMP:20260421T100747
CREATED:20250904T013156Z
LAST-MODIFIED:20250904T013156Z
UID:100782-1756454400-1756472400@cucuta.gov.co
SUMMARY:Lanzamiento programa “Mi plante”
DESCRIPTION:Lugar: Sede principal de la FESC\, avenida 5 #15-27\, barrio La Cabrera
URL:https://cucuta.gov.co/event/lanzamiento-programa-mi-plante/
END:VEVENT
BEGIN:VEVENT
DTSTART;TZID=America/New_York:20250903T070000
DTEND;TZID=America/New_York:20250904T130000
DTSTAMP:20260421T100747
CREATED:20250904T013412Z
LAST-MODIFIED:20250904T013412Z
UID:100786-1756882800-1756990800@cucuta.gov.co
SUMMARY:Encuentro Empresarial Binacional: Visión Frontera 2025
DESCRIPTION:📍Lugar: Hotel Casino Internacional.\n🗓️Fecha: 3 y 4 de septiembre\n🕣Hora: 7 a.m. – 1 p.m.
URL:https://cucuta.gov.co/event/encuentro-empresarial-binacional-vision-frontera-2025/
END:VEVENT
BEGIN:VEVENT
DTSTART;TZID=America/New_York:20250904T080000
DTEND;TZID=America/New_York:20250904T120000
DTSTAMP:20260421T100747
CREATED:20250904T013317Z
LAST-MODIFIED:20250904T013317Z
UID:100784-1756972800-1756987200@cucuta.gov.co
SUMMARY:Oferta institucional y juegos recreativos de salud mental
DESCRIPTION:📍Lugar: UDES
URL:https://cucuta.gov.co/event/oferta-institucional-y-juegos-recreativos-de-salud-mental/
END:VEVENT
BEGIN:VEVENT
DTSTART;TZID=America/New_York:20250923T080000
DTEND;TZID=America/New_York:20250925T120000
DTSTAMP:20260421T100747
CREATED:20251006T154147Z
LAST-MODIFIED:20251006T154147Z
UID:101536-1758614400-1758801600@cucuta.gov.co
SUMMARY:Sisbén + social
DESCRIPTION:Vereda la prosperidad\nFecha: Martes 23 de septiembre de 2025.\nLugar: salón comunal Vereda La Prosperidad.\nHora: 8:00 am a 12:00 m. \nBarrio el oasis\nFecha: Miércoles 24 de septiembre de 2025.\nLugar: Avenida 27 con calle 4 Parque El Oasis\nHora: 8:00 am a 12:00 m. \npalmeras parte baja\nFecha: miércoles 24 de septiembre de 2025.\nLugar: manzana 45 lote 6 palmera parte baja\nHora: 8:00 am a 12:00 m. \nBarrio la Ermita\nFecha: Jueves 25 de septiembre de 2025\nLugar: Parque principal barrio La Ermita.\nHora: 8:00 a.m. a 12:00 m.
URL:https://cucuta.gov.co/event/sisben-social-11/
END:VEVENT
BEGIN:VEVENT
DTSTART;TZID=America/New_York:20250925T080000
DTEND;TZID=America/New_York:20250925T120000
DTSTAMP:20260421T100747
CREATED:20251006T154241Z
LAST-MODIFIED:20251006T154241Z
UID:101538-1758787200-1758801600@cucuta.gov.co
SUMMARY:Comunidades con Bienestar e Integración
DESCRIPTION:Lugar: Cubierta la Libertad Calle 14 entre avenidas 11 y 12 barrio La libertad. Hora: 8:00 a.m.
URL:https://cucuta.gov.co/event/comunidades-con-bienestar-e-integracion-11/
END:VEVENT
BEGIN:VEVENT
DTSTART;TZID=America/New_York:20250930T080000
DTEND;TZID=America/New_York:20250930T120000
DTSTAMP:20260421T100747
CREATED:20251006T154405Z
LAST-MODIFIED:20251006T154405Z
UID:101542-1759219200-1759233600@cucuta.gov.co
SUMMARY:Sisbén + Social
DESCRIPTION:Calle 2\, barrio Los Alpes parte alta\nHora: 8:00 a.m. a 12:00 p.m.
URL:https://cucuta.gov.co/event/sisben-social-12/
END:VEVENT
BEGIN:VEVENT
DTSTART;TZID=America/New_York:20251003T080000
DTEND;TZID=America/New_York:20251004T000000
DTSTAMP:20260421T100747
CREATED:20251006T154042Z
LAST-MODIFIED:20251006T154042Z
UID:101534-1759478400-1759536000@cucuta.gov.co
SUMMARY:Comunidades con bienestar e integración
DESCRIPTION:Lugar: Salón Comunal Aguas Calientes\nCalle 20 # 16-31
URL:https://cucuta.gov.co/event/comunidades-con-bienestar-e-integracion-10/
END:VEVENT
BEGIN:VEVENT
DTSTART;TZID=America/New_York:20251007T080000
DTEND;TZID=America/New_York:20251007T120000
DTSTAMP:20260421T100747
CREATED:20251006T154634Z
LAST-MODIFIED:20251006T154634Z
UID:101548-1759824000-1759838400@cucuta.gov.co
SUMMARY:Sisbén + social
DESCRIPTION:Barrio Galán\nLugar: Calle 22 Av 18 – Av. Principal\nFecha: Martes 7 de octubre de 2025\nHora: 8:00 am a 12:00 m
URL:https://cucuta.gov.co/event/sisben-social-13/
END:VEVENT
BEGIN:VEVENT
DTSTART;TZID=America/New_York:20251010T080000
DTEND;TZID=America/New_York:20251010T120000
DTSTAMP:20260421T100747
CREATED:20251006T154516Z
LAST-MODIFIED:20251006T154516Z
UID:101544-1760083200-1760097600@cucuta.gov.co
SUMMARY:Comunidades con bienestar e integración
DESCRIPTION:Lugar Barrio San Martín\nParque la Realidad – Coliseo Basquetbol de san Martín\nAvenida 10 ente calle 7 y 8- San Martín II
URL:https://cucuta.gov.co/event/comunidades-con-bienestar-e-integracion-13/
END:VEVENT
BEGIN:VEVENT
DTSTART;TZID=America/New_York:20251011T080000
DTEND;TZID=America/New_York:20251011T120000
DTSTAMP:20260421T100747
CREATED:20251006T154550Z
LAST-MODIFIED:20251006T154550Z
UID:101546-1760169600-1760184000@cucuta.gov.co
SUMMARY:Comunidades con bienestar e integración
DESCRIPTION:Lugar Barrio La Laguna\nColegio Juana Rangel de Cuellar – Sede Principal\nAv 00 calle 16 y 17 #0-70. La Laguna\nHora: 8:00 a.m.
URL:https://cucuta.gov.co/event/comunidades-con-bienestar-e-integracion-14/
END:VEVENT
BEGIN:VEVENT
DTSTART;TZID=America/New_York:20251026T080000
DTEND;TZID=America/New_York:20251026T120000
DTSTAMP:20260421T100747
CREATED:20251006T154321Z
LAST-MODIFIED:20251006T154321Z
UID:101540-1761465600-1761480000@cucuta.gov.co
SUMMARY:Comunidades con Bienestar e Integración
DESCRIPTION:Lugar: Iglesia Cristiana Cuadrangular El Talento.\nManzana 56 Lote 1\, El Talento. Hora: 8:00 a.m.
URL:https://cucuta.gov.co/event/comunidades-con-bienestar-e-integracion-12/
END:VEVENT
BEGIN:VEVENT
DTSTART;TZID=America/New_York:20251028T080000
DTEND;TZID=America/New_York:20251028T120000
DTSTAMP:20260421T100747
CREATED:20251104T134039Z
LAST-MODIFIED:20251104T134124Z
UID:102184-1761638400-1761652800@cucuta.gov.co
SUMMARY:Sisbén + social
DESCRIPTION:barrio Buenos Aires\nCalle 25 av 5\nCancha cubierta la 25
URL:https://cucuta.gov.co/event/sisben-social-14/
END:VEVENT
BEGIN:VEVENT
DTSTART;TZID=America/New_York:20251028T083000
DTEND;TZID=America/New_York:20251028T120000
DTSTAMP:20260421T100747
CREATED:20251104T134238Z
LAST-MODIFIED:20251104T134238Z
UID:102186-1761640200-1761652800@cucuta.gov.co
SUMMARY:Tu Biblioteca\, Tu Aliada
DESCRIPTION:Biblioteca Pública Monseñor Luis Pérez Hernández\nFECHA: 28/10/2025\nHORA: 7:30 a.m.
URL:https://cucuta.gov.co/event/tu-biblioteca-tu-aliada/
END:VEVENT
BEGIN:VEVENT
DTSTART;TZID=America/New_York:20251029T150000
DTEND;TZID=America/New_York:20251029T170000
DTSTAMP:20260421T100747
CREATED:20251104T134427Z
LAST-MODIFIED:20251104T134427Z
UID:102188-1761750000-1761757200@cucuta.gov.co
SUMMARY:Conociendo el Parque Santander
DESCRIPTION:LUGAR: Biblioteca Pública Nuestra Señora de Belén\nFECHA: 29/10/2025\nHORA: 3:00 p.m.
URL:https://cucuta.gov.co/event/conociendo-el-parque-santander/
END:VEVENT
BEGIN:VEVENT
DTSTART;TZID=America/New_York:20251030T150000
DTEND;TZID=America/New_York:20251030T150000
DTSTAMP:20260421T100747
CREATED:20251104T134520Z
LAST-MODIFIED:20251104T134520Z
UID:102190-1761836400-1761836400@cucuta.gov.co
SUMMARY:Segunda Mesa Pública del Programa de Alimentación Escolar (PAE)
DESCRIPTION:LUGAR: Auditorio UA NORTE – Av 3 #13-81\nFECHA: Jueves 30 de octubre\nHORA: 3:00 p.m.
URL:https://cucuta.gov.co/event/segunda-mesa-publica-del-programa-de-alimentacion-escolar-pae/
END:VEVENT
BEGIN:VEVENT
DTSTART;TZID=America/New_York:20251118T080000
DTEND;TZID=America/New_York:20251118T150000
DTSTAMP:20260421T100747
CREATED:20251124T011636Z
LAST-MODIFIED:20251124T011636Z
UID:102785-1763452800-1763478000@cucuta.gov.co
SUMMARY:SISBEN + SOCIAL
DESCRIPTION:Lugar: calle 15 con ave 23 cancha cubierta barrio Cundinamarca. \n 
URL:https://cucuta.gov.co/event/sisben-social-15/
END:VEVENT
BEGIN:VEVENT
DTSTART;TZID=America/New_York:20251118T150000
DTEND;TZID=America/New_York:20251118T170000
DTSTAMP:20260421T100747
CREATED:20251124T011803Z
LAST-MODIFIED:20251124T011831Z
UID:102787-1763478000-1763485200@cucuta.gov.co
SUMMARY:Apertura de las Biblio vacaciones decembrinas en compañía del Grinch
DESCRIPTION:LUGAR: Sala de lectura Pablo Correa León \n 
URL:https://cucuta.gov.co/event/apertura-de-las-biblio-vacaciones-decembrinas-en-compania-del-grinch/
END:VEVENT
BEGIN:VEVENT
DTSTART;TZID=America/New_York:20251119T180000
DTEND;TZID=America/New_York:20251119T200000
DTSTAMP:20260421T100747
CREATED:20251124T011945Z
LAST-MODIFIED:20251124T012014Z
UID:102789-1763575200-1763582400@cucuta.gov.co
SUMMARY:Cierre de las Escuelas de Formación Artística y Cultura
DESCRIPTION:LUGAR: Coliseo del Colegio Juan Atalaya \n 
URL:https://cucuta.gov.co/event/cierre-de-las-escuelas-de-formacion-artistica-y-cultura/
END:VEVENT
BEGIN:VEVENT
DTSTART;TZID=America/New_York:20251120T150000
DTEND;TZID=America/New_York:20251120T170000
DTSTAMP:20260421T100747
CREATED:20251124T012216Z
LAST-MODIFIED:20251124T012216Z
UID:102793-1763650800-1763658000@cucuta.gov.co
SUMMARY:Leamos juntos a Pilar Lozano
DESCRIPTION:LUGAR: Av. 24 con calle 38\, sector Los Llavos\, Barrios Belén
URL:https://cucuta.gov.co/event/leamos-juntos-a-pilar-lozano/
END:VEVENT
BEGIN:VEVENT
DTSTART;TZID=America/New_York:20251120T180000
DTEND;TZID=America/New_York:20251120T200000
DTSTAMP:20260421T100747
CREATED:20251124T012109Z
LAST-MODIFIED:20251124T012109Z
UID:102791-1763661600-1763668800@cucuta.gov.co
SUMMARY:Cierre de las Escuelas de Formación Artística y Cultural
DESCRIPTION:LUGAR: Cancha del barrio López
URL:https://cucuta.gov.co/event/cierre-de-las-escuelas-de-formacion-artistica-y-cultural/
END:VEVENT
BEGIN:VEVENT
DTSTART;TZID=America/New_York:20251121T170000
DTEND;TZID=America/New_York:20251121T190000
DTSTAMP:20260421T100747
CREATED:20251124T012310Z
LAST-MODIFIED:20251124T012330Z
UID:102795-1763744400-1763751600@cucuta.gov.co
SUMMARY:Lunada literaria: El Grinch y la Navidad
DESCRIPTION:LUGAR: Biblioteca Monseñor Luis Pérez Hernández – Centro Cuidarte (La Libertad) \n 
URL:https://cucuta.gov.co/event/lunada-literaria-el-grinch-y-la-navidad/
END:VEVENT
BEGIN:VEVENT
DTSTART;TZID=America/New_York:20251127T080000
DTEND;TZID=America/New_York:20251127T120000
DTSTAMP:20260421T100747
CREATED:20251222T211720Z
LAST-MODIFIED:20251222T211738Z
UID:103539-1764230400-1764244800@cucuta.gov.co
SUMMARY:Sisben + social
DESCRIPTION:Barrio La Fortaleza\nLugar: Cancha principal de tierra\, barrio La Fortaleza\, anillo vial occidental.\nFecha: Jueves 27 de noviembre de 2025\nHora: 8:00 am a 12:00 m
URL:https://cucuta.gov.co/event/sisben-social-16/
END:VEVENT
BEGIN:VEVENT
DTSTART;TZID=America/New_York:20251211T080000
DTEND;TZID=America/New_York:20251211T120000
DTSTAMP:20260421T100747
CREATED:20251222T211852Z
LAST-MODIFIED:20251222T211852Z
UID:103542-1765440000-1765454400@cucuta.gov.co
SUMMARY:SISBEN + SOCIAL
DESCRIPTION:Barrió El Progreso\nLugar: Calle 21 # 67-68\, Parroquia San Alberto Hurtado\nFecha: Jueves 11 de diciembre de 2025\nHora: 8:00 a. m. a 12:00 m.
URL:https://cucuta.gov.co/event/sisben-social-17/
END:VEVENT
BEGIN:VEVENT
DTSTART;TZID=America/New_York:20260209T143000
DTEND;TZID=America/New_York:20260209T170000
DTSTAMP:20260421T100747
CREATED:20260210T005022Z
LAST-MODIFIED:20260210T005130Z
UID:104291-1770647400-1770656400@cucuta.gov.co
SUMMARY:Formación al talento humano de la Secretaría de Educación
DESCRIPTION:LUGAR: IPS Niños de papel\nHORA: 2:30 P.M.
URL:https://cucuta.gov.co/event/formacion-al-talento-humano-de-la-secretaria-de-educacion/
END:VEVENT
BEGIN:VEVENT
DTSTART;TZID=America/New_York:20260212T080000
DTEND;TZID=America/New_York:20260213T000000
DTSTAMP:20260421T100747
CREATED:20260209T164745Z
LAST-MODIFIED:20260209T164745Z
UID:104262-1770883200-1770940800@cucuta.gov.co
SUMMARY:Primera sesión del Comité de Educación Municipal Ambiental
DESCRIPTION:Lugar: Corponor
URL:https://cucuta.gov.co/event/primera-sesion-del-comite-de-educacion-municipal-ambiental/
END:VEVENT
BEGIN:VEVENT
DTSTART;TZID=America/New_York:20260212T083000
DTEND;TZID=America/New_York:20260213T220000
DTSTAMP:20260421T100747
CREATED:20260210T005237Z
LAST-MODIFIED:20260210T005237Z
UID:104293-1770885000-1771020000@cucuta.gov.co
SUMMARY:Semanario sobre el fortalecimiento de capacidades para  identificar y reportar la trata de personas
DESCRIPTION:LUGAR: Auditorio Cámara de Comercio\nFECHA: 12 y 13 de febrero\nHORA: 8:00 A.M.
URL:https://cucuta.gov.co/event/semanario-sobre-el-fortalecimiento-de-capacidades-para-identificar-y-reportar-la-trata-de-personas/
END:VEVENT
END:VCALENDAR