BEGIN:VCALENDAR
VERSION:2.0
PRODID:-//Alcaldia de Cúcuta - ECPv6.15.18//NONSGML v1.0//EN
CALSCALE:GREGORIAN
METHOD:PUBLISH
X-WR-CALNAME:Alcaldia de Cúcuta
X-ORIGINAL-URL:https://cucuta.gov.co
X-WR-CALDESC:Eventos para Alcaldia de Cúcuta
REFRESH-INTERVAL;VALUE=DURATION:PT1H
X-Robots-Tag:noindex
X-PUBLISHED-TTL:PT1H
BEGIN:VTIMEZONE
TZID:America/Bogota
BEGIN:STANDARD
TZOFFSETFROM:-0500
TZOFFSETTO:-0500
TZNAME:-05
DTSTART:20230101T050000
END:STANDARD
END:VTIMEZONE
BEGIN:VEVENT
DTSTART;TZID=America/Bogota:20241002T090000
DTEND;TZID=America/Bogota:20241002T110000
DTSTAMP:20260421T195047
CREATED:20241224T034622Z
LAST-MODIFIED:20241227T154625Z
UID:90677-1727859600-1727866800@cucuta.gov.co
SUMMARY:Simulacro Nacional de Respuesta a Emergencias
DESCRIPTION:
URL:https://cucuta.gov.co/event/simulacro-nacional-de-respuesta-a-emergencias/
END:VEVENT
BEGIN:VEVENT
DTSTART;TZID=America/Bogota:20241002T160000
DTEND;TZID=America/Bogota:20241002T170000
DTSTAMP:20260421T195047
CREATED:20241224T034802Z
LAST-MODIFIED:20241227T154542Z
UID:90679-1727884800-1727888400@cucuta.gov.co
SUMMARY:Entrega de Parque Automotor para la fuerza pública
DESCRIPTION:
URL:https://cucuta.gov.co/event/entrega-de-parque-automotor-para-la-fuerza-publica/
LOCATION:Plaza de Banderas\, Plaza de Banderas
END:VEVENT
BEGIN:VEVENT
DTSTART;TZID=America/Bogota:20241003T080000
DTEND;TZID=America/Bogota:20241004T170000
DTSTAMP:20260421T195047
CREATED:20241224T034900Z
LAST-MODIFIED:20241227T154456Z
UID:90682-1727942400-1728061200@cucuta.gov.co
SUMMARY:Acuerdo de Hermanamiento de San Cristóbal y San José de Cúcuta
DESCRIPTION:
URL:https://cucuta.gov.co/event/acuerdo-de-hermanamiento-de-san-cristobal-y-san-jose-de-cucuta/
END:VEVENT
BEGIN:VEVENT
DTSTART;TZID=America/Bogota:20241005T080000
DTEND;TZID=America/Bogota:20241005T140000
DTSTAMP:20260421T195047
CREATED:20241224T035005Z
LAST-MODIFIED:20241227T154406Z
UID:90684-1728115200-1728136800@cucuta.gov.co
SUMMARY:Comunidades con bienestar
DESCRIPTION:
URL:https://cucuta.gov.co/event/comunidades-con-bienestar/
LOCATION:Col. Municipal Barrio Aeropuerto\, Col. Municipal Barrio Aeropuerto
END:VEVENT
BEGIN:VEVENT
DTSTART;TZID=America/Bogota:20241007T070000
DTEND;TZID=America/Bogota:20241013T010000
DTSTAMP:20260421T195047
CREATED:20241224T042533Z
LAST-MODIFIED:20241227T154310Z
UID:90697-1728284400-1728781200@cucuta.gov.co
SUMMARY:Vacunación Felina y Canina puerta puerta totalmente gratis
DESCRIPTION:
URL:https://cucuta.gov.co/event/vacunacion-felina-y-canina-puerta-puerta-totalmente-gratis/
LOCATION:Ospina Perez\, Ospina Perez
END:VEVENT
BEGIN:VEVENT
DTSTART;TZID=America/Bogota:20241008T070000
DTEND;TZID=America/Bogota:20241008T160000
DTSTAMP:20260421T195047
CREATED:20241224T035114Z
LAST-MODIFIED:20241227T154203Z
UID:90687-1728370800-1728403200@cucuta.gov.co
SUMMARY:Sisbén contigo
DESCRIPTION:
URL:https://cucuta.gov.co/event/sisben-contigo/
LOCATION:Corregimiento de San Pedro. Escuela Central\, Corregimiento de San Pedro. Escuela Central
END:VEVENT
BEGIN:VEVENT
DTSTART;TZID=America/Bogota:20241010T080000
DTEND;TZID=America/Bogota:20241014T170000
DTSTAMP:20260421T195047
CREATED:20241224T042415Z
LAST-MODIFIED:20241227T153503Z
UID:90694-1728547200-1728925200@cucuta.gov.co
SUMMARY:Ecorparque de Comfanorte
DESCRIPTION:
URL:https://cucuta.gov.co/event/ecorparque-de-comfanorte/
LOCATION:Ecorparque de Comfanorte\, Ecorparque de Comfanorte
END:VEVENT
BEGIN:VEVENT
DTSTART;TZID=America/Bogota:20241010T120000
DTEND;TZID=America/Bogota:20241010T190000
DTSTAMP:20260421T195047
CREATED:20241224T035227Z
LAST-MODIFIED:20241224T035227Z
UID:90690-1728561600-1728586800@cucuta.gov.co
SUMMARY:Contigo en La Vereda El pórtico
DESCRIPTION:
URL:https://cucuta.gov.co/event/contigo-en-la-vereda-el-portico/
LOCATION:Contigo en La Vereda El pórtico\, Contigo en La Vereda El pórtico
END:VEVENT
BEGIN:VEVENT
DTSTART;TZID=America/Bogota:20241012T070000
DTEND;TZID=America/Bogota:20241012T130000
DTSTAMP:20260421T195047
CREATED:20241224T042645Z
LAST-MODIFIED:20241227T153344Z
UID:90700-1728716400-1728738000@cucuta.gov.co
SUMMARY:Comunidades con Bienestar e integración
DESCRIPTION:
URL:https://cucuta.gov.co/event/comunidades-con-bienestar-e-integracion/
LOCATION:Puesto de salud Barrio San Martín.\, Puesto de salud Barrio San Martín.
END:VEVENT
BEGIN:VEVENT
DTSTART;TZID=America/Bogota:20241015T130000
DTEND;TZID=America/Bogota:20241019T220000
DTSTAMP:20260421T195047
CREATED:20241224T042804Z
LAST-MODIFIED:20241224T042804Z
UID:90704-1728997200-1729375200@cucuta.gov.co
SUMMARY:Semana Cultural y Muestra Empresarial
DESCRIPTION:
URL:https://cucuta.gov.co/event/semana-cultural-y-muestra-empresarial/
LOCATION:Centro Tecnológico de Cúcuta Lugar: Av 6 #3-20 barrio comuneros\, Centro Tecnológico de Cúcuta
END:VEVENT
BEGIN:VEVENT
DTSTART;TZID=America/Bogota:20241016T123000
DTEND;TZID=America/Bogota:20241016T163000
DTSTAMP:20260421T195047
CREATED:20241224T043005Z
LAST-MODIFIED:20241224T043005Z
UID:90710-1729081800-1729096200@cucuta.gov.co
SUMMARY:Puesta en escena - caperucita roja y el lobo en el malecón- red municipal de lectura y escritura
DESCRIPTION:
URL:https://cucuta.gov.co/event/puesta-en-escena-caperucita-roja-y-el-lobo-en-el-malecon-red-municipal-de-lectura-y-escritura/
LOCATION:Institución Fátima\, Institución Fátima
END:VEVENT
BEGIN:VEVENT
DTSTART;TZID=America/Bogota:20241016T130000
DTEND;TZID=America/Bogota:20241016T210000
DTSTAMP:20260421T195047
CREATED:20241224T042908Z
LAST-MODIFIED:20241224T042908Z
UID:90707-1729083600-1729112400@cucuta.gov.co
SUMMARY:Convocatoria Agencia Pública de Empleo – Vacantes para asesor en ventas
DESCRIPTION:
URL:https://cucuta.gov.co/event/convocatoria-agencia-publica-de-empleo-vacantes-para-asesor-en-ventas/
LOCATION:: secretaria de Desarrollo social – Calle 10 av 0 #06-16 Hotel Tonchalá oficinas 108 – 109\, Hotel Tonchala
END:VEVENT
BEGIN:VEVENT
DTSTART;TZID=America/Bogota:20241016T180000
DTEND;TZID=America/Bogota:20241016T193000
DTSTAMP:20260421T195047
CREATED:20241224T043103Z
LAST-MODIFIED:20241227T152355Z
UID:90713-1729101600-1729107000@cucuta.gov.co
SUMMARY:Cine Club
DESCRIPTION:
URL:https://cucuta.gov.co/event/cine-club-2/
LOCATION:Teatro Municipal
END:VEVENT
BEGIN:VEVENT
DTSTART;TZID=America/Bogota:20241016T220000
DTEND;TZID=America/Bogota:20241017T000000
DTSTAMP:20260421T195047
CREATED:20241224T043238Z
LAST-MODIFIED:20241224T043238Z
UID:90715-1729116000-1729123200@cucuta.gov.co
SUMMARY:Ruta histórica- jet Smart
DESCRIPTION:
URL:https://cucuta.gov.co/event/ruta-historica-jet-smart/
LOCATION:Biblioteca Julio Pérez Ferrero\, Biblioteca Julio Pérez Ferrero
END:VEVENT
BEGIN:VEVENT
DTSTART;TZID=America/Bogota:20241017T080000
DTEND;TZID=America/Bogota:20241017T090000
DTSTAMP:20260421T195047
CREATED:20241224T043330Z
LAST-MODIFIED:20241227T152322Z
UID:90718-1729152000-1729155600@cucuta.gov.co
SUMMARY:Capacitación sobre comercio ilegal de productos que atentan contra la salud y la vida de los consumidores
DESCRIPTION:
URL:https://cucuta.gov.co/event/capacitacion-sobre-comercio-ilegal-de-productos-que-atentan-contra-la-salud-y-la-vida-de-los-consumidores/
LOCATION:Hotel Holiday Inn\, Hotel Holiday Inn
END:VEVENT
BEGIN:VEVENT
DTSTART;TZID=America/Bogota:20241017T130000
DTEND;TZID=America/Bogota:20241017T220000
DTSTAMP:20260421T195047
CREATED:20241224T043444Z
LAST-MODIFIED:20241224T043444Z
UID:90721-1729170000-1729202400@cucuta.gov.co
SUMMARY:Capacitación a JAC sobre cumplimiento del plan de Retorno y Reubicación  y Memoria Histórica
DESCRIPTION:
URL:https://cucuta.gov.co/event/capacitacion-a-jac-sobre-cumplimiento-del-plan-de-retorno-y-reubicacion-y-memoria-historica/
LOCATION:crav\, CENTRO REGIONAL DE ATENCIÓN A LAS VÍCTIMAS
END:VEVENT
BEGIN:VEVENT
DTSTART;TZID=America/Bogota:20241017T220000
DTEND;TZID=America/Bogota:20241017T230000
DTSTAMP:20260421T195047
CREATED:20241224T044103Z
LAST-MODIFIED:20241224T044103Z
UID:90724-1729202400-1729206000@cucuta.gov.co
SUMMARY:Ruta Historica
DESCRIPTION:
URL:https://cucuta.gov.co/event/ruta-historica/
LOCATION:Biblioteca Julio Pérez Ferrero\, Biblioteca Julio Pérez Ferrero
END:VEVENT
BEGIN:VEVENT
DTSTART;TZID=America/Bogota:20241018T080000
DTEND;TZID=America/Bogota:20241019T000000
DTSTAMP:20260421T195047
CREATED:20241224T044142Z
LAST-MODIFIED:20241227T152238Z
UID:90726-1729238400-1729296000@cucuta.gov.co
SUMMARY:Invitación personería\, socialización diseño final\, proyecto Antonia Santos\, lote 21
DESCRIPTION:
URL:https://cucuta.gov.co/event/invitacion-personeria-socializacion-diseno-final-proyecto-antonia-santos-lote-21/
LOCATION:crav\, CENTRO REGIONAL DE ATENCIÓN A LAS VÍCTIMAS
END:VEVENT
BEGIN:VEVENT
DTSTART;TZID=America/Bogota:20241018T170000
DTEND;TZID=America/Bogota:20241018T190000
DTSTAMP:20260421T195047
CREATED:20241224T044230Z
LAST-MODIFIED:20241227T152208Z
UID:90728-1729270800-1729278000@cucuta.gov.co
SUMMARY:Lanzamiento del punto de información - CÚCUTA CIUDAD DESTINO
DESCRIPTION:
URL:https://cucuta.gov.co/event/lanzamiento-del-punto-de-informacion-cucuta-ciudad-destino/
LOCATION:Malecón\, El Malecón
END:VEVENT
BEGIN:VEVENT
DTSTART;TZID=America/Bogota:20241022T070000
DTEND;TZID=America/Bogota:20241023T000000
DTSTAMP:20260421T195047
CREATED:20241224T044319Z
LAST-MODIFIED:20241227T152105Z
UID:90731-1729580400-1729641600@cucuta.gov.co
SUMMARY:Capacitación en “abordaje linfadenopatías
DESCRIPTION:
URL:https://cucuta.gov.co/event/capacitacion-en-abordaje-linfadenopatias/
LOCATION:Auditorio Caja de Compensación Familiar COMFAORIENTE\, Auditorio Caja de Compensación Familiar COMFAORIENTE
END:VEVENT
BEGIN:VEVENT
DTSTART;TZID=America/Bogota:20241023T080000
DTEND;TZID=America/Bogota:20241024T000000
DTSTAMP:20260421T195047
CREATED:20241224T044358Z
LAST-MODIFIED:20241227T152029Z
UID:90734-1729670400-1729728000@cucuta.gov.co
SUMMARY:Capacitación Economía Circular\, popular asociatividad e inclusión social
DESCRIPTION:
URL:https://cucuta.gov.co/event/capacitacion-economia-circular-popular-asociatividad-e-inclusion-social/
LOCATION:Auditorio del Sena\, Comuneros\, Auditorio del Sena\, Comuneros
END:VEVENT
BEGIN:VEVENT
DTSTART;TZID=America/Bogota:20241026T080000
DTEND;TZID=America/Bogota:20241026T170000
DTSTAMP:20260421T195047
CREATED:20241224T044511Z
LAST-MODIFIED:20241227T151919Z
UID:90740-1729929600-1729962000@cucuta.gov.co
SUMMARY:6TA JORNADA DE VACUNACIÓN NACIONAL
DESCRIPTION:
URL:https://cucuta.gov.co/event/6ta-jornada-de-vacunacion-nacional/
LOCATION:IPS Clinica House\, IPS Clinica House
END:VEVENT
BEGIN:VEVENT
DTSTART;TZID=America/Bogota:20241026T130000
DTEND;TZID=America/Bogota:20241026T180000
DTSTAMP:20260421T195047
CREATED:20241224T044439Z
LAST-MODIFIED:20241224T044439Z
UID:90737-1729947600-1729965600@cucuta.gov.co
SUMMARY:comunidades con bienestar e integración
DESCRIPTION:
URL:https://cucuta.gov.co/event/comunidades-con-bienestar-e-integracion-2/
LOCATION:Colegio Claudia María Prada Comuna 8\, Colegio Claudia María Prada
END:VEVENT
BEGIN:VEVENT
DTSTART;TZID=America/Bogota:20241030T080000
DTEND;TZID=America/Bogota:20241031T000000
DTSTAMP:20260421T195047
CREATED:20241224T044552Z
LAST-MODIFIED:20241227T151839Z
UID:90743-1730275200-1730332800@cucuta.gov.co
SUMMARY:‘Fortaleciendo capacidades en prestadores del servicio de salud\, población migrante y comunidades de acogida en torno al VIH’
DESCRIPTION:
URL:https://cucuta.gov.co/event/fortaleciendo-capacidades-en-prestadores-del-servicio-de-salud-poblacion-migrante-y-comunidades-de-acogida-en-torno-al-vih/
LOCATION:Hotel Casa blanca\, Hotel Casa blanca
END:VEVENT
END:VCALENDAR