BEGIN:VCALENDAR
VERSION:2.0
PRODID:-//Alcaldia de Cúcuta - ECPv6.15.18//NONSGML v1.0//EN
CALSCALE:GREGORIAN
METHOD:PUBLISH
X-ORIGINAL-URL:https://cucuta.gov.co
X-WR-CALDESC:Eventos para Alcaldia de Cúcuta
REFRESH-INTERVAL;VALUE=DURATION:PT1H
X-Robots-Tag:noindex
X-PUBLISHED-TTL:PT1H
BEGIN:VTIMEZONE
TZID:America/Bogota
BEGIN:STANDARD
TZOFFSETFROM:-0500
TZOFFSETTO:-0500
TZNAME:-05
DTSTART:20240101T050000
END:STANDARD
END:VTIMEZONE
BEGIN:VEVENT
DTSTART;TZID=America/Bogota:20250401T080000
DTEND;TZID=America/Bogota:20250401T120000
DTSTAMP:20260421T100304
CREATED:20250401T141028Z
LAST-MODIFIED:20250401T141059Z
UID:94504-1743494400-1743508800@cucuta.gov.co
SUMMARY:Jornada de Sisbén Más Social en el barrio La Ermita
DESCRIPTION:Lugar: avenida 7 y 8 calle 34 cancha cubierta
URL:https://cucuta.gov.co/event/jornada-de-sisben-mas-social-en-el-barrio-la-ermita/
END:VEVENT
BEGIN:VEVENT
DTSTART;TZID=America/Bogota:20250403T080000
DTEND;TZID=America/Bogota:20250403T120000
DTSTAMP:20260421T100304
CREATED:20250401T141231Z
LAST-MODIFIED:20250401T141244Z
UID:94506-1743667200-1743681600@cucuta.gov.co
SUMMARY:Jornada de Sisbén Más Social en el barrio Rudesindo Soto
DESCRIPTION:Lugar_ Avenida 31 con calle 17 esquina\, cancha cubierta.
URL:https://cucuta.gov.co/event/jornada-de-sisben-mas-social-en-el-barrio-rudesindo-soto/
END:VEVENT
BEGIN:VEVENT
DTSTART;TZID=America/Bogota:20250403T093000
DTEND;TZID=America/Bogota:20250403T120000
DTSTAMP:20260421T100304
CREATED:20250401T141457Z
LAST-MODIFIED:20250401T141457Z
UID:94508-1743672600-1743681600@cucuta.gov.co
SUMMARY:Capacitación en Gestión de Residuos Sólidos para comunales de la zona rural
DESCRIPTION:Lugar: Auditorio Veolia – Av. 4A #8-57 Urbanización el Bosque
URL:https://cucuta.gov.co/event/capacitacion-en-gestion-de-residuos-solidos-para-comunales-de-la-zona-rural/
END:VEVENT
BEGIN:VEVENT
DTSTART;TZID=America/Bogota:20250403T153000
DTEND;TZID=America/Bogota:20250403T173000
DTSTAMP:20260421T100304
CREATED:20250401T141631Z
LAST-MODIFIED:20250401T141739Z
UID:94510-1743694200-1743701400@cucuta.gov.co
SUMMARY:Inauguración de la sede para la atención Integral a Población Vulnerable
DESCRIPTION:Lugar: Av. 4 con calle 4 barrio Comuneros
URL:https://cucuta.gov.co/event/inauguracion-de-la-sede-para-la-atencion-integral-a-poblacion-vulnerable/
END:VEVENT
BEGIN:VEVENT
DTSTART;TZID=America/Bogota:20250404T070000
DTEND;TZID=America/Bogota:20250404T120000
DTSTAMP:20260421T100304
CREATED:20250401T141912Z
LAST-MODIFIED:20250401T141927Z
UID:94512-1743750000-1743768000@cucuta.gov.co
SUMMARY:Lanzamiento Carnaval del Juego por la Niñez- Colombia "Todos a Jugar"
DESCRIPTION:Lugar: I.E Col. Integrado Simón Bolívar sede Hernando Acevedo
URL:https://cucuta.gov.co/event/lanzamiento-carnaval-del-juego-por-la-ninez-colombia-todos-a-jugar/
END:VEVENT
BEGIN:VEVENT
DTSTART;TZID=America/Bogota:20250408T070000
DTEND;TZID=America/Bogota:20250408T123000
DTSTAMP:20260421T100304
CREATED:20250407T143323Z
LAST-MODIFIED:20250407T143348Z
UID:94787-1744095600-1744115400@cucuta.gov.co
SUMMARY:Encuentro con rectores de Instituciones Educativas
DESCRIPTION:Hotel Casino Internacional – Salón Champagne
URL:https://cucuta.gov.co/event/encuentro-con-rectores-de-instituciones-educativas/
END:VEVENT
BEGIN:VEVENT
DTSTART;TZID=America/Bogota:20250409T080000
DTEND;TZID=America/Bogota:20250409T120000
DTSTAMP:20260421T100304
CREATED:20250407T143518Z
LAST-MODIFIED:20250407T143542Z
UID:94791-1744185600-1744200000@cucuta.gov.co
SUMMARY:Jornada de Sisbén + Social
DESCRIPTION:Lugar: Barrio La Ceiba (Parque Nicolás Colmenares (La Canasta)
URL:https://cucuta.gov.co/event/jornada-de-sisben-social/
END:VEVENT
BEGIN:VEVENT
DTSTART;TZID=America/Bogota:20250409T090000
DTEND;TZID=America/Bogota:20250409T120000
DTSTAMP:20260421T100304
CREATED:20250407T143431Z
LAST-MODIFIED:20250407T143431Z
UID:94789-1744189200-1744200000@cucuta.gov.co
SUMMARY:Entrega de dotación a Juntas de Acción Comunal
DESCRIPTION:
URL:https://cucuta.gov.co/event/entrega-de-dotacion-a-juntas-de-accion-comunal/
END:VEVENT
BEGIN:VEVENT
DTSTART;TZID=America/Bogota:20250411T080000
DTEND;TZID=America/Bogota:20250411T120000
DTSTAMP:20260421T100304
CREATED:20250407T143714Z
LAST-MODIFIED:20250407T143724Z
UID:94793-1744358400-1744372800@cucuta.gov.co
SUMMARY:Jornada de Sisbén + Social
DESCRIPTION:Lugar: Urb. La Aurora (Calle 22a #22-85\, Frente a la escuela San Juan Bosco
URL:https://cucuta.gov.co/event/jornada-de-sisben-social-2/
END:VEVENT
BEGIN:VEVENT
DTSTART;TZID=America/Bogota:20250423T080000
DTEND;TZID=America/Bogota:20250423T120000
DTSTAMP:20260421T100304
CREATED:20250422T214909Z
LAST-MODIFIED:20250422T214909Z
UID:95180-1745395200-1745409600@cucuta.gov.co
SUMMARY:Jornada Sisbén + social
DESCRIPTION:Lugar: Salón comunal Sevilla
URL:https://cucuta.gov.co/event/jornada-sisben-social/
END:VEVENT
BEGIN:VEVENT
DTSTART;TZID=America/Bogota:20250423T083000
DTEND;TZID=America/Bogota:20250423T123000
DTSTAMP:20260421T100304
CREATED:20250422T214448Z
LAST-MODIFIED:20250422T214448Z
UID:95171-1745397000-1745411400@cucuta.gov.co
SUMMARY:Socialización Programa Empleos Para La Vida
DESCRIPTION:
URL:https://cucuta.gov.co/event/socializacion-programa-empleos-para-la-vida/
LOCATION:Teatro Municipal
END:VEVENT
BEGIN:VEVENT
DTSTART;VALUE=DATE:20250425
DTEND;VALUE=DATE:20250427
DTSTAMP:20260421T100304
CREATED:20250422T214704Z
LAST-MODIFIED:20250422T214737Z
UID:95175-1745557200-1745643599@cucuta.gov.co
SUMMARY:Gran Vacunaton Jornada continua
DESCRIPTION:PROMONORTE\nAV. 2 #19-90 BARRIO BLANCO.\n8:00 a.m. – 9:00 p.m.\nSANIDAD DEL EJÉRCITO\nAV. 1 VÍA EL PÓRTICO.\n8:00 a.m. – 7:00 p.m.\nCENTRO MÉDICO COLSANITAS\nCALLE 8 #1E 113-116 POPULAR.\n8:00 a.m. – 7:00 p.m.\nNORDVITAL\nCALLE 14a #1E-135 CAOBOS.\n8:00 a.m. – 9:00 p.m.\nUCIS DE COLOMBIA\nCALLE 4 N #1E-147 SAN EDUARDO.\n8:00 a.m. – 8:00 p.m.\nIPS CLINICAL HOUSE\nAV. 1E # 11-152 QUINTA VÉLEZ –\nCAOBOS.\n8:00 a.m. – 7:00 p.m.
URL:https://cucuta.gov.co/event/gran-vacunaton-jornada-continua/
END:VEVENT
BEGIN:VEVENT
DTSTART;TZID=America/Bogota:20250425T083000
DTEND;TZID=America/Bogota:20250425T123000
DTSTAMP:20260421T100304
CREATED:20250422T214607Z
LAST-MODIFIED:20250422T214607Z
UID:95173-1745569800-1745584200@cucuta.gov.co
SUMMARY:DESARROLLO DEL DÍA DE LA ACTIVIDAD FÍSICA EN LAS INSTITUCIONES EDUCATIVAS
DESCRIPTION:LEMA: ACTIVA TU CUERPO \nI.E. Jaime Garzón
URL:https://cucuta.gov.co/event/desarrollo-del-dia-de-la-actividad-fisica-en-las-instituciones-educativas/
END:VEVENT
BEGIN:VEVENT
DTSTART;TZID=America/Bogota:20250426T080000
DTEND;TZID=America/Bogota:20250426T120000
DTSTAMP:20260421T100304
CREATED:20250422T214820Z
LAST-MODIFIED:20250422T214820Z
UID:95178-1745654400-1745668800@cucuta.gov.co
SUMMARY:2da Jornada Nacional de Vacunación y Vacunación de las Américas
DESCRIPTION:Lugar: IPS Medcare. Av. 2 Este # 5-35 Barrio La Ceiba
URL:https://cucuta.gov.co/event/2da-jornada-nacional-de-vacunacion-y-vacunacion-de-las-americas/
END:VEVENT
END:VCALENDAR