BEGIN:VCALENDAR
VERSION:2.0
PRODID:-//Alcaldia de Cúcuta - ECPv6.15.18//NONSGML v1.0//EN
CALSCALE:GREGORIAN
METHOD:PUBLISH
X-ORIGINAL-URL:https://cucuta.gov.co
X-WR-CALDESC:Eventos para Alcaldia de Cúcuta
REFRESH-INTERVAL;VALUE=DURATION:PT1H
X-Robots-Tag:noindex
X-PUBLISHED-TTL:PT1H
BEGIN:VTIMEZONE
TZID:America/New_York
BEGIN:DAYLIGHT
TZOFFSETFROM:-0500
TZOFFSETTO:-0400
TZNAME:EDT
DTSTART:20240310T070000
END:DAYLIGHT
BEGIN:STANDARD
TZOFFSETFROM:-0400
TZOFFSETTO:-0500
TZNAME:EST
DTSTART:20241103T060000
END:STANDARD
BEGIN:DAYLIGHT
TZOFFSETFROM:-0500
TZOFFSETTO:-0400
TZNAME:EDT
DTSTART:20250309T070000
END:DAYLIGHT
BEGIN:STANDARD
TZOFFSETFROM:-0400
TZOFFSETTO:-0500
TZNAME:EST
DTSTART:20251102T060000
END:STANDARD
BEGIN:DAYLIGHT
TZOFFSETFROM:-0500
TZOFFSETTO:-0400
TZNAME:EDT
DTSTART:20260308T070000
END:DAYLIGHT
BEGIN:STANDARD
TZOFFSETFROM:-0400
TZOFFSETTO:-0500
TZNAME:EST
DTSTART:20261101T060000
END:STANDARD
END:VTIMEZONE
BEGIN:VEVENT
DTSTART;TZID=America/New_York:20251118T080000
DTEND;TZID=America/New_York:20251118T150000
DTSTAMP:20260420T220416
CREATED:20251124T011636Z
LAST-MODIFIED:20251124T011636Z
UID:102785-1763452800-1763478000@cucuta.gov.co
SUMMARY:SISBEN + SOCIAL
DESCRIPTION:Lugar: calle 15 con ave 23 cancha cubierta barrio Cundinamarca. \n 
URL:https://cucuta.gov.co/event/sisben-social-15/
END:VEVENT
BEGIN:VEVENT
DTSTART;TZID=America/New_York:20251118T150000
DTEND;TZID=America/New_York:20251118T170000
DTSTAMP:20260420T220416
CREATED:20251124T011803Z
LAST-MODIFIED:20251124T011831Z
UID:102787-1763478000-1763485200@cucuta.gov.co
SUMMARY:Apertura de las Biblio vacaciones decembrinas en compañía del Grinch
DESCRIPTION:LUGAR: Sala de lectura Pablo Correa León \n 
URL:https://cucuta.gov.co/event/apertura-de-las-biblio-vacaciones-decembrinas-en-compania-del-grinch/
END:VEVENT
BEGIN:VEVENT
DTSTART;TZID=America/New_York:20251119T180000
DTEND;TZID=America/New_York:20251119T200000
DTSTAMP:20260420T220416
CREATED:20251124T011945Z
LAST-MODIFIED:20251124T012014Z
UID:102789-1763575200-1763582400@cucuta.gov.co
SUMMARY:Cierre de las Escuelas de Formación Artística y Cultura
DESCRIPTION:LUGAR: Coliseo del Colegio Juan Atalaya \n 
URL:https://cucuta.gov.co/event/cierre-de-las-escuelas-de-formacion-artistica-y-cultura/
END:VEVENT
BEGIN:VEVENT
DTSTART;TZID=America/New_York:20251120T150000
DTEND;TZID=America/New_York:20251120T170000
DTSTAMP:20260420T220416
CREATED:20251124T012216Z
LAST-MODIFIED:20251124T012216Z
UID:102793-1763650800-1763658000@cucuta.gov.co
SUMMARY:Leamos juntos a Pilar Lozano
DESCRIPTION:LUGAR: Av. 24 con calle 38\, sector Los Llavos\, Barrios Belén
URL:https://cucuta.gov.co/event/leamos-juntos-a-pilar-lozano/
END:VEVENT
BEGIN:VEVENT
DTSTART;TZID=America/New_York:20251120T180000
DTEND;TZID=America/New_York:20251120T200000
DTSTAMP:20260420T220416
CREATED:20251124T012109Z
LAST-MODIFIED:20251124T012109Z
UID:102791-1763661600-1763668800@cucuta.gov.co
SUMMARY:Cierre de las Escuelas de Formación Artística y Cultural
DESCRIPTION:LUGAR: Cancha del barrio López
URL:https://cucuta.gov.co/event/cierre-de-las-escuelas-de-formacion-artistica-y-cultural/
END:VEVENT
BEGIN:VEVENT
DTSTART;TZID=America/New_York:20251121T170000
DTEND;TZID=America/New_York:20251121T190000
DTSTAMP:20260420T220416
CREATED:20251124T012310Z
LAST-MODIFIED:20251124T012330Z
UID:102795-1763744400-1763751600@cucuta.gov.co
SUMMARY:Lunada literaria: El Grinch y la Navidad
DESCRIPTION:LUGAR: Biblioteca Monseñor Luis Pérez Hernández – Centro Cuidarte (La Libertad) \n 
URL:https://cucuta.gov.co/event/lunada-literaria-el-grinch-y-la-navidad/
END:VEVENT
BEGIN:VEVENT
DTSTART;TZID=America/New_York:20251127T080000
DTEND;TZID=America/New_York:20251127T120000
DTSTAMP:20260420T220416
CREATED:20251222T211720Z
LAST-MODIFIED:20251222T211738Z
UID:103539-1764230400-1764244800@cucuta.gov.co
SUMMARY:Sisben + social
DESCRIPTION:Barrio La Fortaleza\nLugar: Cancha principal de tierra\, barrio La Fortaleza\, anillo vial occidental.\nFecha: Jueves 27 de noviembre de 2025\nHora: 8:00 am a 12:00 m
URL:https://cucuta.gov.co/event/sisben-social-16/
END:VEVENT
END:VCALENDAR